BEGIN:VCALENDAR
PRODID:NingEventWidget-v1
VERSION:2.0
METHOD:PUBLISH
BEGIN:VTIMEZONE
TZID:America/Los_Angeles
X-LIC-LOCATION:America/Los_Angeles
BEGIN:DAYLIGHT
TZOFFSETFROM:-0800
TZOFFSETTO:-0700
TZNAME:PDT
DTSTART:19700308T020000
RRULE:FREQ=YEARLY;BYMONTH=3;BYDAY=2SU
END:DAYLIGHT
BEGIN:STANDARD
TZOFFSETFROM:-0700
TZOFFSETTO:-0800
TZNAME:PST
DTSTART:19701101T020000
RRULE:FREQ=YEARLY;BYMONTH=11;BYDAY=1SU
END:STANDARD
END:VTIMEZONE
BEGIN:VEVENT
UID:1464587:Event:807096
DTSTAMP:20260421T171115Z
SUMMARY:LEON BRIDGES
DESCRIPTION:Vaccination or Negative COVID-19 Test Required\r\nThe Boun
 dless Tour LEON BRIDGES Little Dragon\r\nWednesday, September 07, 2022
  Doors: 5:30pm | Show: 7:00pm\r\nGreek Theatre Hearst Greek Theatre, 2
 001 Gayley Rd,  Berkeley, CA 94720\n\nFor more information visit https
 ://trueskool.com/events/leon-bridges-2
DTSTART;TZID=America/Los_Angeles:20220907T190000
DTEND;TZID=America/Los_Angeles:20220907T230000
CATEGORIES:"bay area", oakland, "san francisco", "san jose", berkeley
LOCATION:Greek Theatre, Berkeley
WEBSITE:https://www.ticketmaster.com/leon-bridges-the-boundless-tour-w
 ith-berkeley-california-09-07-2022/event/1C005C4B96C16F1A?camefrom=CFC
 _ANOTHERPLANET_web&amp;brand=anotherplanet
URL:https://www.ticketmaster.com/leon-bridges-the-boundless-tour-with-
 berkeley-california-09-07-2022/event/1C005C4B96C16F1A?camefrom=CFC_ANO
 THERPLANET_web&amp;brand=anotherplanet
CONTACT:
ORGANIZER;CN="Editor's Pick":https://trueskool.com/profile/RentheVinyl
 Archaeologist
ATTACH;FMTTYPE="image/jpeg":https://storage.ning.com/topology/rest/1.0
 /file/get/10165628462?profile=original
ATTENDEE;ROLE=REQ-PARTICIPANT;PARTSTAT=ACCEPTED;RSVP=TRUE;CN="Editor's
  Pick":https://trueskool.com/profile/RentheVinylArchaeologist
END:VEVENT
END:VCALENDAR
