BEGIN:VCALENDAR
PRODID:NingEventWidget-v1
VERSION:2.0
METHOD:PUBLISH
BEGIN:VTIMEZONE
TZID:America/Los_Angeles
X-LIC-LOCATION:America/Los_Angeles
BEGIN:DAYLIGHT
TZOFFSETFROM:-0800
TZOFFSETTO:-0700
TZNAME:PDT
DTSTART:19700308T020000
RRULE:FREQ=YEARLY;BYMONTH=3;BYDAY=2SU
END:DAYLIGHT
BEGIN:STANDARD
TZOFFSETFROM:-0700
TZOFFSETTO:-0800
TZNAME:PST
DTSTART:19701101T020000
RRULE:FREQ=YEARLY;BYMONTH=11;BYDAY=1SU
END:STANDARD
END:VTIMEZONE
BEGIN:VEVENT
UID:1464587:Event:32729
DTSTAMP:20260420T210417Z
SUMMARY:Leela James, Bilal
DESCRIPTION:\nLeela James, Bilal\nwith Anthony David\n\nThe Grand Ball
 room at The Regency Center\nSan Francisco, California\nShow time: 8:00
 pm\nDoor time: 7:00pm\nAge: All Ages+\n\nFor more information visit ht
 tps://trueskool.com/events/leela-james-bilal
DTSTART;TZID=America/Los_Angeles:20090808T190000
DTEND;TZID=America/Los_Angeles:20090809T230000
CATEGORIES:soul, "r&b"
LOCATION:The Grand Ballroom at The Regency Center, San Francisco
WEBSITE:http://www.ticketmaster.com/event/1C004296C0295C24?brand=golde
 nvoice
URL:http://www.ticketmaster.com/event/1C004296C0295C24?brand=goldenvoi
 ce
CONTACT:
ORGANIZER:Golden Voice
ATTACH;FMTTYPE="image/jpeg":http://storage.ning.com/topology/rest/1.0/
 file/get/2247857810?profile=original
ATTENDEE;ROLE=REQ-PARTICIPANT;PARTSTAT=ACCEPTED;RSVP=TRUE;CN="Ren the 
 Vinyl Archaeologist":https://trueskool.com/profile/xh51jvilojur
END:VEVENT
END:VCALENDAR
