BEGIN:VCALENDAR
PRODID:NingEventWidget-v1
VERSION:2.0
METHOD:PUBLISH
BEGIN:VTIMEZONE
TZID:America/Los_Angeles
X-LIC-LOCATION:America/Los_Angeles
BEGIN:DAYLIGHT
TZOFFSETFROM:-0800
TZOFFSETTO:-0700
TZNAME:PDT
DTSTART:19700308T020000
RRULE:FREQ=YEARLY;BYMONTH=3;BYDAY=2SU
END:DAYLIGHT
BEGIN:STANDARD
TZOFFSETFROM:-0700
TZOFFSETTO:-0800
TZNAME:PST
DTSTART:19701101T020000
RRULE:FREQ=YEARLY;BYMONTH=11;BYDAY=1SU
END:STANDARD
END:VTIMEZONE
BEGIN:VEVENT
UID:1464587:Event:27708
DTSTAMP:20260420T194441Z
SUMMARY:L-Boogie's B-Day Bash Monday May 25th @ Otis Lounge during the
  SIBIN!
DESCRIPTION:Jah Planet & Joseph Starr Sound Bring you:\n\nSibin! Nothi
 ng but pure Positivity, Heavy Dubs, and Modern Roots, and Classic Danc
 ehall!\n\nEvery Monday night @ Otis Lounge from 8PM til Late\nLocated 
 @ 25 maiden Ln SF\n\nThis week Monday May 25th is Boogie's B-Day Bash 
 w/ Special Guests:\n\n\nFor more information visit https://trueskool.c
 om/events/lboogies-bday-bash-monday-may
DTSTART;TZID=America/Los_Angeles:20090525T200000
DTEND;TZID=America/Los_Angeles:20090526T020000
CATEGORIES:reggae, roots, culture, dub, dancehall, music, lounge, danc
 e, dancefloor, steppers, hip-hop, old, school, birthday, b-day, bash, 
 bashment, ska, rocksteady, no, "cover!"
LOCATION:Otis Lounge, San Francisco
WEBSITE:http://www.otissf.com/
URL:http://www.otissf.com/
CONTACT:415-328-2276
ORGANIZER:Jah Planet & Joseph Starr Sound
ATTACH;FMTTYPE="image/jpeg":http://storage.ning.com/topology/rest/1.0/
 file/get/2247857448?profile=original
ATTENDEE;ROLE=REQ-PARTICIPANT;PARTSTAT=ACCEPTED;RSVP=TRUE;CN="DJ Nikka
  T":https://trueskool.com/profile/DJNikkaT
END:VEVENT
END:VCALENDAR
