BEGIN:VCALENDAR
PRODID:NingEventWidget-v1
VERSION:2.0
METHOD:PUBLISH
BEGIN:VTIMEZONE
TZID:America/Los_Angeles
X-LIC-LOCATION:America/Los_Angeles
BEGIN:DAYLIGHT
TZOFFSETFROM:-0800
TZOFFSETTO:-0700
TZNAME:PDT
DTSTART:19700308T020000
RRULE:FREQ=YEARLY;BYMONTH=3;BYDAY=2SU
END:DAYLIGHT
BEGIN:STANDARD
TZOFFSETFROM:-0700
TZOFFSETTO:-0800
TZNAME:PST
DTSTART:19701101T020000
RRULE:FREQ=YEARLY;BYMONTH=11;BYDAY=1SU
END:STANDARD
END:VTIMEZONE
BEGIN:VEVENT
UID:1464587:Event:667791
DTSTAMP:20260421T160500Z
SUMMARY:Last SoulHOUSE at Mercer
DESCRIPTION:Well it's been a great run but the owners at Mercer where 
 I've been hosting SoulHOUSE the last few years have decided to close u
 p shop which means, new owners and a brand new venue will eventually b
 e opening in this space. So while this is certainly not the last soulh
 ouse it is the last soulhouse at Mercer! I hope you'll come out for on
 e last night of soul, funk, disco, deep soulful house and tech house.Â
  Featuring:Agent001 (Steve Porter & Eli Wilkie) 1230-2Keith Kraft-Rede
 ye 1130-1230George D 1030-1130Kimmy Le Funk 9-1030Vocals by Bianca Wri
 ghtvendors:Jewelry by LOCZIworksAlso celebrating Sujan Roberts birthda
 y!!!Save with early bird tickets:https://www.eventbrite.com/e/last-sou
 lhouse-at-mercer-tickets-37696688811$10 otherwise$15 after 10pm for ev
 eryone\n\nFor more information visit https://trueskool.com/events/last
 -soulhouse-at-mercer
DTSTART;TZID=America/Los_Angeles:20170922T210000
DTEND;TZID=America/Los_Angeles:20170923T020000
CATEGORIES:san, francisco
LOCATION:Mercer SF, San Francisco
WEBSITE:https://www.eventbrite.com/e/last-soulhouse-at-mercer-tickets-
 37696688811
URL:https://www.eventbrite.com/e/last-soulhouse-at-mercer-tickets-3769
 6688811
CONTACT:
ORGANIZER;CN="Keyatta Shade":https://trueskool.com/profile/KeyattaShad
 e
ATTACH;FMTTYPE="image/jpeg":http://storage.ning.com/topology/rest/1.0/
 file/get/2248002394?profile=original
ATTENDEE;ROLE=REQ-PARTICIPANT;PARTSTAT=ACCEPTED;RSVP=TRUE;CN="Keyatta 
 Shade":https://trueskool.com/profile/KeyattaShade
END:VEVENT
END:VCALENDAR
