BEGIN:VCALENDAR
PRODID:NingEventWidget-v1
VERSION:2.0
METHOD:PUBLISH
BEGIN:VTIMEZONE
TZID:America/Los_Angeles
X-LIC-LOCATION:America/Los_Angeles
BEGIN:DAYLIGHT
TZOFFSETFROM:-0800
TZOFFSETTO:-0700
TZNAME:PDT
DTSTART:19700308T020000
RRULE:FREQ=YEARLY;BYMONTH=3;BYDAY=2SU
END:DAYLIGHT
BEGIN:STANDARD
TZOFFSETFROM:-0700
TZOFFSETTO:-0800
TZNAME:PST
DTSTART:19701101T020000
RRULE:FREQ=YEARLY;BYMONTH=11;BYDAY=1SU
END:STANDARD
END:VTIMEZONE
BEGIN:VEVENT
UID:1464587:Event:818395
DTSTAMP:20260424T163443Z
SUMMARY:LARRY JUNE
DESCRIPTION:LARRY JUNE\r\nWednesday, July 26, 2023 Doors: 7:00pm | Sho
 w: 8:00pm\r\nFox Theater 1807 Telegraph Ave Oakland, CA 94612\n\nFor m
 ore information visit https://trueskool.com/events/larry-june-2
DTSTART;TZID=America/Los_Angeles:20230726T200000
DTEND;TZID=America/Los_Angeles:20230726T233000
CATEGORIES:"bay area", oakland, "san francisco", "san jose", berkeley
LOCATION:Fox Theater
WEBSITE:https://www.ticketmaster.com/event/1C005E7CA2FC36A0?camefrom=C
 FC_ANOTHERPLANET_web&amp;brand=anotherplanet
URL:https://www.ticketmaster.com/event/1C005E7CA2FC36A0?camefrom=CFC_A
 NOTHERPLANET_web&amp;brand=anotherplanet
CONTACT:
ORGANIZER;CN="Editor's Pick":https://trueskool.com/profile/RentheVinyl
 Archaeologist
ATTACH;FMTTYPE="image/jpeg":https://storage.ning.com/topology/rest/1.0
 /file/get/11029877458?profile=original
ATTENDEE;ROLE=REQ-PARTICIPANT;PARTSTAT=ACCEPTED;RSVP=TRUE;CN="Editor's
  Pick":https://trueskool.com/profile/RentheVinylArchaeologist
END:VEVENT
END:VCALENDAR
