BEGIN:VCALENDAR
PRODID:NingEventWidget-v1
VERSION:2.0
METHOD:PUBLISH
BEGIN:VTIMEZONE
TZID:America/Los_Angeles
X-LIC-LOCATION:America/Los_Angeles
BEGIN:DAYLIGHT
TZOFFSETFROM:-0800
TZOFFSETTO:-0700
TZNAME:PDT
DTSTART:19700308T020000
RRULE:FREQ=YEARLY;BYMONTH=3;BYDAY=2SU
END:DAYLIGHT
BEGIN:STANDARD
TZOFFSETFROM:-0700
TZOFFSETTO:-0800
TZNAME:PST
DTSTART:19701101T020000
RRULE:FREQ=YEARLY;BYMONTH=11;BYDAY=1SU
END:STANDARD
END:VTIMEZONE
BEGIN:VEVENT
UID:1464587:Event:811274
DTSTAMP:20260421T191253Z
SUMMARY:Large Professor
DESCRIPTION:ENTER TO WIN A PAIR OF TICKETS. WINNER WILL BE DRAWN RANDO
 MLY AND ANNOUNCED 2 DAYS PRIOR TO EVENT. \r\n\r\n\r\nTHURSDAY, SEPT 1
 5 Large Professor\r\nwith special guests Raw Wattage, AMK, Rich Ayala,
  The Sick Boyz w/ DJ Troubleman  @ Starline Social Club, 2236 Martin L
 uther King Jr Way, Oakland Doors @ 9pm. $20 adv // $25 dos. 18+ >> BUY
  TICKETS\r\n\n\nFor more information visit https://trueskool.com/event
 s/large-professor
DTSTART;TZID=America/Los_Angeles:20220915T210000
DTEND;TZID=America/Los_Angeles:20220916T014500
CATEGORIES:"bay area", oakland
LOCATION:Starline Social Club, Oakland, CA
WEBSITE:http://bit.ly/LargePro
URL:http://bit.ly/LargePro
CONTACT:
ORGANIZER:Starline Social Club
ATTACH;FMTTYPE="image/jpeg":https://storage.ning.com/topology/rest/1.0
 /file/get/10785595256?profile=original
ATTENDEE;ROLE=REQ-PARTICIPANT;PARTSTAT=ACCEPTED;RSVP=TRUE;CN="Editor's
  Pick":https://trueskool.com/profile/RentheVinylArchaeologist
END:VEVENT
END:VCALENDAR
