BEGIN:VCALENDAR
PRODID:NingEventWidget-v1
VERSION:2.0
METHOD:PUBLISH
BEGIN:VTIMEZONE
TZID:America/Los_Angeles
X-LIC-LOCATION:America/Los_Angeles
BEGIN:DAYLIGHT
TZOFFSETFROM:-0800
TZOFFSETTO:-0700
TZNAME:PDT
DTSTART:19700308T020000
RRULE:FREQ=YEARLY;BYMONTH=3;BYDAY=2SU
END:DAYLIGHT
BEGIN:STANDARD
TZOFFSETFROM:-0700
TZOFFSETTO:-0800
TZNAME:PST
DTSTART:19701101T020000
RRULE:FREQ=YEARLY;BYMONTH=11;BYDAY=1SU
END:STANDARD
END:VTIMEZONE
BEGIN:VEVENT
UID:1464587:Event:140826
DTSTAMP:20260422T173847Z
SUMMARY:Lalah Hathaway
DESCRIPTION:\n\nWhere It All Begins EPK | Lalah Hathaway from Concord 
 Music Group on Vimeo.\n\nHer name is legendary.Her music is timeless.H
 er lyrics touch you at the core.Her voice possesses rich warmth that s
 oothes your ears and holds you close.She is Lalah Hathaway.\nBorn to R
 &B/soul music royalty, most people know her simply as the daughter of 
 late soul music legend, Donny Hathaway. But there is more to her than 
 that. A trained pianist and vocalist, she is a graduate of the Berklee
  College of Music and her career has spanned two decades. Twenty-one y
 ears after the release of her first LP, her career continues to thrive
 .\n\nFriday, December 78pm & 10pm $30\nSaturday, December 88pm & 10pm 
 $35\nSunday, December 97pm & 9pm $30\n\nFor more information visit htt
 ps://trueskool.com/events/lalah-hathaway-2
DTSTART;TZID=America/Los_Angeles:20121207T200000
DTEND;TZID=America/Los_Angeles:20121209T230000
CATEGORIES:"bay area", "san francisco", oakland
LOCATION:Yoshi's, Oakland
WEBSITE:http://yoshis.inticketing.com/evlist.php?events=search&searchs
 tr=lalah+hathaway&smonth=0&sday=0&syear=0&vstate=0
URL:http://yoshis.inticketing.com/evlist.php?events=search&searchstr=l
 alah+hathaway&smonth=0&sday=0&syear=0&vstate=0
CONTACT:
ORGANIZER;CN="Editor's Pick":https://trueskool.com/profile/RentheVinyl
 Archaeologist
ATTACH;FMTTYPE="image/jpeg":http://storage.ning.com/topology/rest/1.0/
 file/get/2247929745?profile=original
ATTENDEE;ROLE=REQ-PARTICIPANT;PARTSTAT=ACCEPTED;RSVP=TRUE;CN="Editor's
  Pick":https://trueskool.com/profile/RentheVinylArchaeologist
END:VEVENT
END:VCALENDAR
