BEGIN:VCALENDAR
PRODID:NingEventWidget-v1
VERSION:2.0
METHOD:PUBLISH
BEGIN:VTIMEZONE
TZID:America/Los_Angeles
X-LIC-LOCATION:America/Los_Angeles
BEGIN:DAYLIGHT
TZOFFSETFROM:-0800
TZOFFSETTO:-0700
TZNAME:PDT
DTSTART:19700308T020000
RRULE:FREQ=YEARLY;BYMONTH=3;BYDAY=2SU
END:DAYLIGHT
BEGIN:STANDARD
TZOFFSETFROM:-0700
TZOFFSETTO:-0800
TZNAME:PST
DTSTART:19701101T020000
RRULE:FREQ=YEARLY;BYMONTH=11;BYDAY=1SU
END:STANDARD
END:VTIMEZONE
BEGIN:VEVENT
UID:1464587:Event:68629
DTSTAMP:20260420T193544Z
SUMMARY:LADIES NIGHT (SHE READY NOW ) PERFORMING LIVE KAFANI
DESCRIPTION:DG ENTERTAINMENT PRESENT LADIES NIGHT ( SHE READY NOW ) PE
 RFORMING LIVE KAFANI 21 AND OVER DRESS CODE IS ENFORCED LADIES N FREE 
 TILL 10:30 10$ COVER CHARGE TILL 11:30 FOR BOTTLE SERVICE EMAIL DGENTE
 VENTS@GMAIL.COM\n\n\nFor more information visit https://trueskool.com/
 events/ladies-night-she-ready-now
DTSTART;TZID=America/Los_Angeles:20101113T220000
DTEND;TZID=America/Los_Angeles:20101114T040000
CATEGORIES:oakland, ca
LOCATION:NEW KARIBBEAN CITY
WEBSITE:
URL:
CONTACT:
ORGANIZER;CN="DG ENTERTAINMENT":https://trueskool.com/profile/DGENTERT
 AINMENT
ATTACH;FMTTYPE="image/jpeg":http://storage.ning.com/topology/rest/1.0/
 file/get/2247885129?profile=original
ATTENDEE;ROLE=REQ-PARTICIPANT;PARTSTAT=ACCEPTED;RSVP=TRUE;CN="DG ENTER
 TAINMENT":https://trueskool.com/profile/DGENTERTAINMENT
END:VEVENT
END:VCALENDAR
