BEGIN:VCALENDAR
PRODID:NingEventWidget-v1
VERSION:2.0
METHOD:PUBLISH
BEGIN:VTIMEZONE
TZID:America/Los_Angeles
X-LIC-LOCATION:America/Los_Angeles
BEGIN:DAYLIGHT
TZOFFSETFROM:-0800
TZOFFSETTO:-0700
TZNAME:PDT
DTSTART:19700308T020000
RRULE:FREQ=YEARLY;BYMONTH=3;BYDAY=2SU
END:DAYLIGHT
BEGIN:STANDARD
TZOFFSETFROM:-0700
TZOFFSETTO:-0800
TZNAME:PST
DTSTART:19701101T020000
RRULE:FREQ=YEARLY;BYMONTH=11;BYDAY=1SU
END:STANDARD
END:VTIMEZONE
BEGIN:VEVENT
UID:1464587:Event:386932
DTSTAMP:20260421T020527Z
SUMMARY:LADIES NIGHT OUT FRIDAY JULY 18TH
DESCRIPTION:Girls Night out is our annual social networking event for 
 bay area Residence and beyond. Many times we have organize this apple 
 event a lot of people do come out especially in the 2nd quarter of the
  year. We got various genre of people with, social ethnic background h
 osted by #Skyconcepts, Oscar and Bay area Promoters with Dj Juice in t
 he mix venue is at beautiful Dragon Rouge, 2337 Alameda.Ca. 94501. For
  more info Call 415-240-6826. RSVP for VIP and Bottle service now. Man
 y Birthday to be celebarted. follow us on twitter instagram @skyconcep
 ts. see you there.\n\nFor more information visit https://trueskool.com
 /events/ladies-night-out-friday-july-18th
DTSTART;TZID=America/Los_Angeles:20140718T213000
DTEND;TZID=America/Los_Angeles:20140719T020000
CATEGORIES:"bay area", alameda, sanfrancisco, oakland, berkeley, haywa
 rd, fremont, antioch, "castro valley"
LOCATION:Dragon Rouge, Alameda.Ca
WEBSITE:
URL:
CONTACT:415-240-6826
ORGANIZER;CN=Oscar:https://trueskool.com/profile/Oscar
ATTACH;FMTTYPE="image/jpeg":http://storage.ning.com/topology/rest/1.0/
 file/get/2247964227?profile=original
ATTENDEE;ROLE=REQ-PARTICIPANT;PARTSTAT=ACCEPTED;RSVP=TRUE;CN=Oscar:htt
 ps://trueskool.com/profile/Oscar
END:VEVENT
END:VCALENDAR
