BEGIN:VCALENDAR
PRODID:NingEventWidget-v1
VERSION:2.0
METHOD:PUBLISH
BEGIN:VTIMEZONE
TZID:America/Los_Angeles
X-LIC-LOCATION:America/Los_Angeles
BEGIN:DAYLIGHT
TZOFFSETFROM:-0800
TZOFFSETTO:-0700
TZNAME:PDT
DTSTART:19700308T020000
RRULE:FREQ=YEARLY;BYMONTH=3;BYDAY=2SU
END:DAYLIGHT
BEGIN:STANDARD
TZOFFSETFROM:-0700
TZOFFSETTO:-0800
TZNAME:PST
DTSTART:19701101T020000
RRULE:FREQ=YEARLY;BYMONTH=11;BYDAY=1SU
END:STANDARD
END:VTIMEZONE
BEGIN:VEVENT
UID:1464587:Event:154622
DTSTAMP:20260421T125411Z
SUMMARY:La Gente with The Seshen
DESCRIPTION:Enjoy an evening full of live electronic, dance pop and so
 ul\nwith the sweets sounds of\nTHE SESHEN\nand local reggae, soul roc
 kers\nLA GENTE\nDoors 8pm, $10 ADV / $15 Doors\n\n\nFor more informati
 on visit https://trueskool.com/events/la-gente-with-the-seshen
DTSTART;TZID=America/Los_Angeles:20130112T200000
DTEND;TZID=America/Los_Angeles:20130113T140000
CATEGORIES:san, francsico, ca
LOCATION:Boom Boom Room, San Francisco, CA
WEBSITE:http://www.boomboomtickets.com/events
URL:http://www.boomboomtickets.com/events
CONTACT:415.673.8067
ORGANIZER;CN="miss candi":https://trueskool.com/profile/misscandi
ATTACH;FMTTYPE="image/jpeg":http://storage.ning.com/topology/rest/1.0/
 file/get/2247937967?profile=original
ATTENDEE;ROLE=REQ-PARTICIPANT;PARTSTAT=ACCEPTED;RSVP=TRUE;CN="miss can
 di":https://trueskool.com/profile/misscandi
END:VEVENT
END:VCALENDAR
