BEGIN:VCALENDAR
PRODID:NingEventWidget-v1
VERSION:2.0
METHOD:PUBLISH
BEGIN:VTIMEZONE
TZID:America/Los_Angeles
X-LIC-LOCATION:America/Los_Angeles
BEGIN:DAYLIGHT
TZOFFSETFROM:-0800
TZOFFSETTO:-0700
TZNAME:PDT
DTSTART:19700308T020000
RRULE:FREQ=YEARLY;BYMONTH=3;BYDAY=2SU
END:DAYLIGHT
BEGIN:STANDARD
TZOFFSETFROM:-0700
TZOFFSETTO:-0800
TZNAME:PST
DTSTART:19701101T020000
RRULE:FREQ=YEARLY;BYMONTH=11;BYDAY=1SU
END:STANDARD
END:VTIMEZONE
BEGIN:VEVENT
UID:1464587:Event:282089
DTSTAMP:20260421T132343Z
SUMMARY:La Boîte & UNI4RM present: Juan MacLean Dj Set (DFA)
DESCRIPTION:\nFriday December 13thLa Boîte & UNI4RM present: Juan Ma
 cLean Dj Set (DFA)Support by:Pacific Disco (La Boîte)Bryan Boogie (Li
 fe SF/ 2nd Sunday)Papa Lu (UNI4RM/ Night Moves)Since the turn of the 2
 1st century, DFA club music maestro Juan MacLean has been laying groun
 dwork. First, there were killer singles, from “By The Time I Get to 
 Venus” in 2002, to international mega hit of 2008 “Happy House” 
 as well as the “The Simple Life”. There was a debut full-length (L
 ess Than Human, 2005); remixes for colleagues like Air, Yoko Ono, Daft
  Punk, David Gahan, Franz Ferdinand; international tours with Cut Copy
  and Shocking Pinks, and DJ gigs from Telluride to Tel Aviv.In April 2
 009 came the second album, The Future Will Come – a more pop inspire
 d collaboration with DFA mainstay Nancy Whang. “In my career as The 
 Juan MacLean, my guiding principle was to start out more dance-y and i
 nstrumental, and someday bow out making flat-out, three-and-a-half min
 ute pop songs.” As he puts it himself – The Future Will Come estim
 ated this creative arc is at its midpoint.The next stop on the journey
  was 2010’s Juan MacLean DJ KiCKS mix CD. True to the series’ stan
 dard, it was selected by DJ Magazine as the #1 essential mix of 2010. 
 Juan’s expert take on pure house music (re) introduced house to a ne
 w generation of dance music fans such that the genre’s popularity ha
 s risen to new heights.Last year DFA releaseda 12” under Juan’s 
 house-de-plum” Peach Melba and a digital-only album called Everybod
 y Get Close. It pulled together songs which had previously never been 
 released on an album and remixes of The Juan MacLean songs by the like
 s of Cut Copy, Holmes Price and DFA’s Jee Day.21+ Event/ $5 before 1
 1pm w/ RSVP @ www.uni4rm.com \nAudiosf Discotech 316 11th St., SF. 
 94103\n\n\n\n\nFor more information visit https://trueskool.com/events
 /la-bo-te-uni4rm-present-juan-maclean-dj-set-dfa
DTSTART;TZID=America/Los_Angeles:20131213T213000
DTEND;TZID=America/Los_Angeles:20131214T020000
CATEGORIES:sf, house, music, clubs, dance, deep, tech, audio
LOCATION:Audio Discotech, San Francisco, Ca.
WEBSITE:http://www.audiosf.com
URL:http://www.audiosf.com
CONTACT:323-218-1123
ORGANIZER;CN="Louie B":https://trueskool.com/profile/LouieB
ATTACH;FMTTYPE="image/jpeg":http://storage.ning.com/topology/rest/1.0/
 file/get/2247953362?profile=original
ATTENDEE;ROLE=REQ-PARTICIPANT;PARTSTAT=ACCEPTED;RSVP=TRUE;CN="Louie B"
 :https://trueskool.com/profile/LouieB
END:VEVENT
END:VCALENDAR
