BEGIN:VCALENDAR
PRODID:NingEventWidget-v1
VERSION:2.0
METHOD:PUBLISH
BEGIN:VTIMEZONE
TZID:America/Los_Angeles
X-LIC-LOCATION:America/Los_Angeles
BEGIN:DAYLIGHT
TZOFFSETFROM:-0800
TZOFFSETTO:-0700
TZNAME:PDT
DTSTART:19700308T020000
RRULE:FREQ=YEARLY;BYMONTH=3;BYDAY=2SU
END:DAYLIGHT
BEGIN:STANDARD
TZOFFSETFROM:-0700
TZOFFSETTO:-0800
TZNAME:PST
DTSTART:19701101T020000
RRULE:FREQ=YEARLY;BYMONTH=11;BYDAY=1SU
END:STANDARD
END:VTIMEZONE
BEGIN:VEVENT
UID:1464587:Event:41534
DTSTAMP:20260421T122854Z
SUMMARY:kularts underCOVER
DESCRIPTION:Kularts underCOVER\nAn Evening of Cover Jams to Benefit th
 e Survivors of Typhoon Ondoy\n8pm, Thu OCT 15\nAdmission: $10 @ the do
 or, $7 advance\nTickets: www.brownpapertickets.com/event/79736\n\nCo-S
 ponsored by Filipino American Development Foundation, Bindlestiff Stud
 io, Kamay at Puso (KAP), Manilatown Heritage Foundation, Distortion 2 
 Static (D2S), Pilipino American Graduate Student Association of UC Ber
 keley (PAGaSA), Liwanag Kultural Center\n\nA community collaboration t
 o present a fun evening of COVER jams as (re)interpreted by some of ou
 r favorite local musicians and bands! From the US to the Philippines -
  Michael Jackson, Up Dharma Down, Ray Parker, Eraserheads, and more ar
 e coming your way! Let's turn our classically Pinoy love of cover tune
 s into real aid for those in need!\n\nA portion of proceeds from this 
 event will be contributed to small relief groups in the Philippines ma
 de up of people we know and trust living in the Metro Manila area. Fun
 ds will go directly toward providing transportation for volunteers, fo
 od, goods, and supplies for flood survivors, and to support community 
 re-building efforts. For more information on these specific groups, pl
 ease contact Dianne at program@kularts.org.\n\nFeaturing:\nThe Dirty B
 oots\nMark Abela\nCaroline Calderon\nKyle de Ocera\nYaminah Lunar\nIla
 ya Malaya of \"Pebble Theory\"\nChloe Nakano\nEvelyn Obamos\nRonald Qu
 esada\nEros Rosmini\nLendl San Jose\nKristine Sinajon\n...and MORE!\n\
 n* Please be advised that Howard Street between 3rd to 5th Street will
  be closed due to the Oracle Open World Conference Oct 8-16. Please pl
 an your transportation accordingly!*\n\nFor more information visit htt
 ps://trueskool.com/events/kularts-undercover
DTSTART;TZID=America/Los_Angeles:20091015T200000
DTEND;TZID=America/Los_Angeles:20091015T230000
CATEGORIES:fundraiser, typhoon, ondoy, live, music, cover, songs, fili
 pino, kularts, bayanihan, community, center
LOCATION:Bayanihan Community Center, San Francisco, CA
WEBSITE:http://kularts.org/calendar.php
URL:http://kularts.org/calendar.php
CONTACT:415-239-0249
ORGANIZER;CN=Kularts:https://trueskool.com/profile/Kularts
ATTACH;FMTTYPE="image/jpeg":http://storage.ning.com/topology/rest/1.0/
 file/get/2247866409?profile=original
ATTENDEE;ROLE=REQ-PARTICIPANT;PARTSTAT=ACCEPTED;RSVP=TRUE;CN=Kularts:h
 ttps://trueskool.com/profile/Kularts
END:VEVENT
END:VCALENDAR
