BEGIN:VCALENDAR
PRODID:NingEventWidget-v1
VERSION:2.0
METHOD:PUBLISH
BEGIN:VTIMEZONE
TZID:America/Los_Angeles
X-LIC-LOCATION:America/Los_Angeles
BEGIN:DAYLIGHT
TZOFFSETFROM:-0800
TZOFFSETTO:-0700
TZNAME:PDT
DTSTART:19700308T020000
RRULE:FREQ=YEARLY;BYMONTH=3;BYDAY=2SU
END:DAYLIGHT
BEGIN:STANDARD
TZOFFSETFROM:-0700
TZOFFSETTO:-0800
TZNAME:PST
DTSTART:19701101T020000
RRULE:FREQ=YEARLY;BYMONTH=11;BYDAY=1SU
END:STANDARD
END:VTIMEZONE
BEGIN:VEVENT
UID:1464587:Event:52562
DTSTAMP:20260421T052207Z
SUMMARY:Kularts PeliKULa! Pi@ay Film Series presents Carrots and Koi F
 ish and Tattoos, Oh My! A Showcase of Philippine Animated Shorts
DESCRIPTION:Kularts Presents\nCarrots and Koi Fish and Tattoos, Oh My!
 \n\"Fantastic landscapes, forest spirits, deviants, pintados, koi fish
  and carrots collide in this one-of-a-kind screening of Philippine ani
 mated shorts.\"\n\nAdmission: $7 General, $5 Advance\nTickets: https:/
 /www.brownpapertickets.com/event/104704\nInfo: 415.239.0249, www.kular
 ts.org, http://facebook.com/kularts, info@kularts.org\n\nPeliKULa! Pin
 @y FIlm Series: Philippine Animated Shorts. Form and function work in 
 concert in these animated shorts as young talents twist up the past an
 d present Philippines. In Ang Paglikha, a fresh use of shadows complem
 ent the folk stories of Bukidnon. In similar interplay between light a
 nd dark rendered in 3D computer animation, Kachatore speeds through th
 e fantastic. Morphing the body politic, Patik takes skin tattoos throu
 gh time with galleons across the sea. The animation directors of Lupan
 g Hinirang and Clownes question the bleakness and austerity of a socie
 ty gone astray, placing their hopes in deviants and love. An array of 
 styles, this program holds a country at the core. Screening will be fo
 llowed by a Q&A panel with Filipino American animators and visual arti
 sts, including Dino Ignacio of Electronic Arts, Anthony Ermio of Lucas
 film Animation, and more!\n\nABOUT PeliKULa! Pin@y Film Series: The Pe
 liKULa! Pin@y Film Series is a monthly program showcasing contemporary
  Pilipino cinema in efforts to bring visibility of new or unseen works
  to growing audiences.\n\nABOUT KULARTS: Kularts is the nation's premi
 er presenter of contemporary and tribal Pilipino arts. Founded in 1985
 , Kularts aims to inform and expand the understanding of American Pili
 pino culture through works that address contemporary issues in the com
 munity; to preserve the spirit and integrity of ancient Pilipino art f
 orms through research, education and documentation. Kularts proudly se
 rves the San Francisco Bay Area, home to the largest number of Pilipin
 os outside of the Philippines.\n\nFor more information visit https://t
 rueskool.com/events/kularts-pelikula-piay-film
DTSTART;TZID=America/Los_Angeles:20100411T150000
DTEND;TZID=America/Los_Angeles:20100411T170000
CATEGORIES:film, animation, visual, arts, cultural, ethnic
LOCATION:Bayanihan Community Center
WEBSITE:https://www.brownpapertickets.com/event/104704
URL:https://www.brownpapertickets.com/event/104704
CONTACT:415-239-0249
ORGANIZER;CN=Kularts:https://trueskool.com/profile/Kularts
ATTACH;FMTTYPE="image/jpeg":http://storage.ning.com/topology/rest/1.0/
 file/get/2247875177?profile=original
ATTENDEE;ROLE=REQ-PARTICIPANT;PARTSTAT=ACCEPTED;RSVP=TRUE;CN=Kularts:h
 ttps://trueskool.com/profile/Kularts
END:VEVENT
END:VCALENDAR
