BEGIN:VCALENDAR
PRODID:NingEventWidget-v1
VERSION:2.0
METHOD:PUBLISH
BEGIN:VTIMEZONE
TZID:America/Los_Angeles
X-LIC-LOCATION:America/Los_Angeles
BEGIN:DAYLIGHT
TZOFFSETFROM:-0800
TZOFFSETTO:-0700
TZNAME:PDT
DTSTART:19700308T020000
RRULE:FREQ=YEARLY;BYMONTH=3;BYDAY=2SU
END:DAYLIGHT
BEGIN:STANDARD
TZOFFSETFROM:-0700
TZOFFSETTO:-0800
TZNAME:PST
DTSTART:19701101T020000
RRULE:FREQ=YEARLY;BYMONTH=11;BYDAY=1SU
END:STANDARD
END:VTIMEZONE
BEGIN:VEVENT
UID:1464587:Event:288468
DTSTAMP:20260420T212310Z
SUMMARY:KRS-One (live), plus DJ Ren the Vinyl Archaeologist (WIN TICKE
 TS)
DESCRIPTION:\n FRIDAY FEB 7 An evening with the Blastmaster, KRS-One\n
  \n \nDJing the show:  Ren The Vinyl Archeologist.\n \nFor VIP acco
 mmodations, including table reservations, no waiting in line and no ti
 cket surcharge, please e-mail reddevilbooking@me.com\nThis show goes o
 n sale Fri, Dec 20 at 12pm.\nRed Devil Lounge 1695 Polk St., San Franc
 isco, California 94109 >> BUY TICKETS\n\nFor more information visit ht
 tps://trueskool.com/events/krs-one-live-plus-dj-ren-the-vinyl-archaeol
 ogist
DTSTART;TZID=America/Los_Angeles:20140207T200000
DTEND;TZID=America/Los_Angeles:20140208T020000
CATEGORIES:"bay area", "san francisco"
LOCATION:Red Devil Lounge, San Francisco
WEBSITE:http://www.reddevillounge.com/event/452679-krs-one-san-francis
 co/
URL:http://www.reddevillounge.com/event/452679-krs-one-san-francisco/
CONTACT:
ORGANIZER:Red Devil Lounge
ATTACH;FMTTYPE="image/jpeg":http://storage.ning.com/topology/rest/1.0/
 file/get/2247956119?profile=original
ATTENDEE;ROLE=REQ-PARTICIPANT;PARTSTAT=ACCEPTED;RSVP=TRUE;CN="Tina Byr
 ne":https://trueskool.com/profile/TinaByrne
ATTENDEE;ROLE=REQ-PARTICIPANT;PARTSTAT=ACCEPTED;RSVP=TRUE;CN="Andrew D
 owd-Reilly":https://trueskool.com/profile/AndrewDowdReilly
ATTENDEE;ROLE=REQ-PARTICIPANT;PARTSTAT=ACCEPTED;RSVP=TRUE;CN="Elisa Bj
 eldanes":https://trueskool.com/profile/ElisaBjeldanes
ATTENDEE;ROLE=REQ-PARTICIPANT;PARTSTAT=ACCEPTED;RSVP=TRUE;CN="Caroline
  Calderon":https://trueskool.com/profile/CarolineCalderon
ATTENDEE;ROLE=REQ-PARTICIPANT;PARTSTAT=ACCEPTED;RSVP=TRUE;CN="Kerry Gr
 aham-Walter":https://trueskool.com/profile/KerryGrahamWalter
ATTENDEE;ROLE=REQ-PARTICIPANT;PARTSTAT=ACCEPTED;RSVP=TRUE;CN="Genel Si
 son":https://trueskool.com/profile/GenelSison
ATTENDEE;ROLE=REQ-PARTICIPANT;PARTSTAT=ACCEPTED;RSVP=TRUE;CN="Or Tregg
 er":https://trueskool.com/profile/OrTregger
ATTENDEE;ROLE=REQ-PARTICIPANT;PARTSTAT=ACCEPTED;RSVP=TRUE;CN="Charles 
 J. Jolivet Jr.":https://trueskool.com/profile/CharlesJJolivetJr
ATTENDEE;ROLE=REQ-PARTICIPANT;PARTSTAT=ACCEPTED;RSVP=TRUE;CN="Jon Schr
 oeder":https://trueskool.com/profile/JonSchroeder
ATTENDEE;ROLE=REQ-PARTICIPANT;PARTSTAT=ACCEPTED;RSVP=TRUE;CN="H.Wilson
 ":https://trueskool.com/profile/HWilson
ATTENDEE;ROLE=REQ-PARTICIPANT;PARTSTAT=ACCEPTED;RSVP=TRUE;CN="Vince Ma
 cias":https://trueskool.com/profile/VinceMacias
ATTENDEE;ROLE=REQ-PARTICIPANT;PARTSTAT=ACCEPTED;RSVP=TRUE;CN=RCD2:http
 s://trueskool.com/profile/Rcd2
ATTENDEE;ROLE=REQ-PARTICIPANT;PARTSTAT=ACCEPTED;RSVP=TRUE;CN="Frank Vi
 loria":https://trueskool.com/profile/DJILLusive
ATTENDEE;ROLE=REQ-PARTICIPANT;PARTSTAT=ACCEPTED;RSVP=TRUE;CN="Leo Ello
 ":https://trueskool.com/profile/LeoEllo
ATTENDEE;ROLE=REQ-PARTICIPANT;PARTSTAT=ACCEPTED;RSVP=TRUE;CN="Eric Dur
 an":https://trueskool.com/profile/EricDuran
ATTENDEE;ROLE=REQ-PARTICIPANT;PARTSTAT=ACCEPTED;RSVP=TRUE;CN=Easy:http
 s://trueskool.com/profile/DJEasy
ATTENDEE;ROLE=REQ-PARTICIPANT;PARTSTAT=ACCEPTED;RSVP=TRUE;CN="Francis 
 Camaquin":https://trueskool.com/profile/FrancisC
ATTENDEE;ROLE=REQ-PARTICIPANT;PARTSTAT=ACCEPTED;RSVP=TRUE;CN=J:https:/
 /trueskool.com/profile/J321
ATTENDEE;ROLE=REQ-PARTICIPANT;PARTSTAT=ACCEPTED;RSVP=TRUE;CN=strilicio
 us:https://trueskool.com/profile/strilicious
ATTENDEE;ROLE=REQ-PARTICIPANT;PARTSTAT=ACCEPTED;RSVP=TRUE;CN="Nancy La
 ws":https://trueskool.com/profile/NancyLaws
ATTENDEE;ROLE=REQ-PARTICIPANT;PARTSTAT=ACCEPTED;RSVP=TRUE;CN=Frost:htt
 ps://trueskool.com/profile/Frost
ATTENDEE;ROLE=REQ-PARTICIPANT;PARTSTAT=ACCEPTED;RSVP=TRUE;CN="Staff Pi
 ck":https://trueskool.com/profile/Ren
END:VEVENT
END:VCALENDAR
