BEGIN:VCALENDAR
PRODID:NingEventWidget-v1
VERSION:2.0
METHOD:PUBLISH
BEGIN:VTIMEZONE
TZID:America/Los_Angeles
X-LIC-LOCATION:America/Los_Angeles
BEGIN:DAYLIGHT
TZOFFSETFROM:-0800
TZOFFSETTO:-0700
TZNAME:PDT
DTSTART:19700308T020000
RRULE:FREQ=YEARLY;BYMONTH=3;BYDAY=2SU
END:DAYLIGHT
BEGIN:STANDARD
TZOFFSETFROM:-0700
TZOFFSETTO:-0800
TZNAME:PST
DTSTART:19701101T020000
RRULE:FREQ=YEARLY;BYMONTH=11;BYDAY=1SU
END:STANDARD
END:VTIMEZONE
BEGIN:VEVENT
UID:1464587:Event:260472
DTSTAMP:20260421T032820Z
SUMMARY:KRS-One
DESCRIPTION:The “conscience of Hip Hop” (Rolling Stone)\nThursday,
  Dec 5 - open dance floor\n\n10:30pm $25\n\n\nFor more information vis
 it https://trueskool.com/events/krs-one-2
DTSTART;TZID=America/Los_Angeles:20131205T223000
DTEND;TZID=America/Los_Angeles:20131206T120000
CATEGORIES:"san francisco"
LOCATION:Yoshi's San Francisco
WEBSITE:http://sfyoshis.inticketing.com/events/353793
URL:http://sfyoshis.inticketing.com/events/353793
CONTACT:
ORGANIZER;CN="Editor's Pick":https://trueskool.com/profile/RentheVinyl
 Archaeologist
ATTACH;FMTTYPE="image/jpeg":http://storage.ning.com/topology/rest/1.0/
 file/get/2247951027?profile=original
ATTENDEE;ROLE=REQ-PARTICIPANT;PARTSTAT=ACCEPTED;RSVP=TRUE;CN="Editor's
  Pick":https://trueskool.com/profile/RentheVinylArchaeologist
END:VEVENT
END:VCALENDAR
