BEGIN:VCALENDAR
PRODID:NingEventWidget-v1
VERSION:2.0
METHOD:PUBLISH
BEGIN:VTIMEZONE
TZID:America/Los_Angeles
X-LIC-LOCATION:America/Los_Angeles
BEGIN:DAYLIGHT
TZOFFSETFROM:-0800
TZOFFSETTO:-0700
TZNAME:PDT
DTSTART:19700308T020000
RRULE:FREQ=YEARLY;BYMONTH=3;BYDAY=2SU
END:DAYLIGHT
BEGIN:STANDARD
TZOFFSETFROM:-0700
TZOFFSETTO:-0800
TZNAME:PST
DTSTART:19701101T020000
RRULE:FREQ=YEARLY;BYMONTH=11;BYDAY=1SU
END:STANDARD
END:VTIMEZONE
BEGIN:VEVENT
UID:1464587:Event:157594
DTSTAMP:20260421T132014Z
SUMMARY:KRS-One
DESCRIPTION:\nFriday, Jan 25 KRS-One\nThe \"conscience of Hip Hop\" re
 turns to Yoshi's!\n \nYoshi's San Francisco 1330 Fillmore Street\nSF,
  CA 94115\nPhone: 415.655.5600\n10:30pm $25 21+ / open dance floor\n$8
 .00 off w/ promo code: TS (case sensitive)\n» BUY TICKETS\n\n\nFor mo
 re information visit https://trueskool.com/events/krs-one-1
DTSTART;TZID=America/Los_Angeles:20130125T223000
DTEND;TZID=America/Los_Angeles:20130126T020000
CATEGORIES:"bay area", "san francisco"
LOCATION:Yoshi's, San Francisco
WEBSITE:http://sfyoshis2.inticketing.com/events/277955
URL:http://sfyoshis2.inticketing.com/events/277955
CONTACT:
ORGANIZER:Yoshi's
ATTACH;FMTTYPE="image/jpeg":http://storage.ning.com/topology/rest/1.0/
 file/get/2247931550?profile=original
ATTENDEE;ROLE=REQ-PARTICIPANT;PARTSTAT=ACCEPTED;RSVP=TRUE;CN="Carolina
  Quijano":https://trueskool.com/profile/CarolinaQuijano
ATTENDEE;ROLE=REQ-PARTICIPANT;PARTSTAT=ACCEPTED;RSVP=TRUE;CN="H.Wilson
 ":https://trueskool.com/profile/HWilson
ATTENDEE;ROLE=REQ-PARTICIPANT;PARTSTAT=ACCEPTED;RSVP=TRUE;CN="Ren the 
 Vinyl Archaeologist":https://trueskool.com/profile/xh51jvilojur
END:VEVENT
END:VCALENDAR
