BEGIN:VCALENDAR
PRODID:NingEventWidget-v1
VERSION:2.0
METHOD:PUBLISH
BEGIN:VTIMEZONE
TZID:America/Los_Angeles
X-LIC-LOCATION:America/Los_Angeles
BEGIN:DAYLIGHT
TZOFFSETFROM:-0800
TZOFFSETTO:-0700
TZNAME:PDT
DTSTART:19700308T020000
RRULE:FREQ=YEARLY;BYMONTH=3;BYDAY=2SU
END:DAYLIGHT
BEGIN:STANDARD
TZOFFSETFROM:-0700
TZOFFSETTO:-0800
TZNAME:PST
DTSTART:19701101T020000
RRULE:FREQ=YEARLY;BYMONTH=11;BYDAY=1SU
END:STANDARD
END:VTIMEZONE
BEGIN:VEVENT
UID:1464587:Event:32524
DTSTAMP:20260421T064834Z
SUMMARY:Knock 'Em Out the Box! (Round III)
DESCRIPTION:Taste of Kalri$$ian:\n\n\nA Taste of Kalri$$ian from Ben S
 utherland on Vimeo.\n\n\n\n\n\nFor more information visit https://true
 skool.com/events/knock-em-out-the-box-round-iii
DTSTART;TZID=America/Los_Angeles:20090530T220000
DTEND;TZID=America/Los_Angeles:20090531T020000
CATEGORIES:hiphop, lounge, comedy, live, performance, dj
LOCATION:Club Six, San Francisco CA
WEBSITE:http://www.ClubSix1.com
URL:http://www.ClubSix1.com
CONTACT:
ORGANIZER:C.U.M.I. Entertainment
ATTACH;FMTTYPE="image/jpeg":http://storage.ning.com/topology/rest/1.0/
 file/get/2247856754?profile=original
ATTENDEE;ROLE=REQ-PARTICIPANT;PARTSTAT=ACCEPTED;RSVP=TRUE;CN="Janelle 
 Schaffer":https://trueskool.com/profile/JanelleSchaffer
END:VEVENT
END:VCALENDAR
