BEGIN:VCALENDAR
PRODID:NingEventWidget-v1
VERSION:2.0
METHOD:PUBLISH
BEGIN:VTIMEZONE
TZID:America/Los_Angeles
X-LIC-LOCATION:America/Los_Angeles
BEGIN:DAYLIGHT
TZOFFSETFROM:-0800
TZOFFSETTO:-0700
TZNAME:PDT
DTSTART:19700308T020000
RRULE:FREQ=YEARLY;BYMONTH=3;BYDAY=2SU
END:DAYLIGHT
BEGIN:STANDARD
TZOFFSETFROM:-0700
TZOFFSETTO:-0800
TZNAME:PST
DTSTART:19701101T020000
RRULE:FREQ=YEARLY;BYMONTH=11;BYDAY=1SU
END:STANDARD
END:VTIMEZONE
BEGIN:VEVENT
UID:1464587:Event:508181
DTSTAMP:20260421T175552Z
SUMMARY:Knife Party
DESCRIPTION:\nKNIFE PARTY\nSam F\nMezzanine, San Francisco, CA\n1/28/1
 5, 9:00 PM\nBuy Tickets\n\n\nFor more information visit https://truesk
 ool.com/events/knife-party
DTSTART;TZID=America/Los_Angeles:20150128T210000
DTEND;TZID=America/Los_Angeles:20150128T230000
CATEGORIES:"bay area", "san francisco"
LOCATION:Mezzanine, San Francisco
WEBSITE:http://www.ticketmaster.com/event/1C004D86A98E30E5
URL:http://www.ticketmaster.com/event/1C004D86A98E30E5
CONTACT:
ORGANIZER:Goldenvoice
ATTACH;FMTTYPE="image/jpeg":http://storage.ning.com/topology/rest/1.0/
 file/get/2247972607?profile=original
ATTENDEE;ROLE=REQ-PARTICIPANT;PARTSTAT=ACCEPTED;RSVP=TRUE;CN="Editor's
  Pick":https://trueskool.com/profile/RentheVinylArchaeologist
END:VEVENT
END:VCALENDAR
