BEGIN:VCALENDAR
PRODID:NingEventWidget-v1
VERSION:2.0
METHOD:PUBLISH
BEGIN:VTIMEZONE
TZID:America/Los_Angeles
X-LIC-LOCATION:America/Los_Angeles
BEGIN:DAYLIGHT
TZOFFSETFROM:-0800
TZOFFSETTO:-0700
TZNAME:PDT
DTSTART:19700308T020000
RRULE:FREQ=YEARLY;BYMONTH=3;BYDAY=2SU
END:DAYLIGHT
BEGIN:STANDARD
TZOFFSETFROM:-0700
TZOFFSETTO:-0800
TZNAME:PST
DTSTART:19701101T020000
RRULE:FREQ=YEARLY;BYMONTH=11;BYDAY=1SU
END:STANDARD
END:VTIMEZONE
BEGIN:VEVENT
UID:1464587:Event:301681
DTSTAMP:20260421T040630Z
SUMMARY:King BRITT + Rich MEDINA + Terence NANCE + J BOOGIE - FRI (1/3
 1)
DESCRIPTION:\nFRIDAY, JAN 31\nKing BRITT + Rich MEDINA + Terence
  NANCE + J BOOGIE\nThe houses of Top Ten Social, fresco, and Yerba
  Buena Center for the Arts' Future Soul Think Tank are uniting to brin
 g soul heads from all sides of the bay together for a future soul odys
 sey.\nIndeed, the future of soul is coming to San Francisco's MIGHTY a
 s we celebrate the birthdays of Michael Orange + Jacobo Juarez.. Expec
 t a spectacular night of visceral transmissions and soulful pulses fea
 turing dj/producer King BRITT + dj/producer Rich MEDINA + film directo
 r/projectionist Terence NANCE + dj/producer J BOOGIE + hosted by Fran 
 BOOGIE!\nSoul heads already know how epic a night it'll be with Philly
  brothers Rich & King playing side by side. We’re to Mars about the 
 addition of award winning film director Terence Nance joining them, pr
 ojecting live animations to Mighty's three screens.\nThe Future of Sou
 l hits on Friday, January 31 at Mighty in San Francisco.\n\nmighty sf 
 • 119 utah • doors 9P • 21+ wiser\nadvance tix - http://richwho
 .eventbrite.com/\n\nFor more information visit https://trueskool.com/e
 vents/king-britt-rich-medina-terence-nance-j-boogie-fri-1-31
DTSTART;TZID=America/Los_Angeles:20140131T210000
DTEND;TZID=America/Los_Angeles:20140201T150000
CATEGORIES:"bay area", "san francisco"
LOCATION:Mighty, San Francisco
WEBSITE:http://richwho.eventbrite.com/
URL:http://richwho.eventbrite.com/
CONTACT:
ORGANIZER:Mighty
ATTACH;FMTTYPE="image/jpeg":http://storage.ning.com/topology/rest/1.0/
 file/get/2247956346?profile=original
ATTENDEE;ROLE=REQ-PARTICIPANT;PARTSTAT=ACCEPTED;RSVP=TRUE;CN=Frost:htt
 ps://trueskool.com/profile/Frost
ATTENDEE;ROLE=REQ-PARTICIPANT;PARTSTAT=ACCEPTED;RSVP=TRUE;CN="Cesar De
  La Vega":https://trueskool.com/profile/CesarDeLaVega
ATTENDEE;ROLE=REQ-PARTICIPANT;PARTSTAT=ACCEPTED;RSVP=TRUE;CN="Editor's
  Pick":https://trueskool.com/profile/RentheVinylArchaeologist
ATTENDEE;ROLE=REQ-PARTICIPANT;PARTSTAT=TENTATIVE;RSVP=TRUE;CN=negraybl
 anca:https://trueskool.com/profile/negrayblanca
END:VEVENT
END:VCALENDAR
