BEGIN:VCALENDAR
PRODID:NingEventWidget-v1
VERSION:2.0
METHOD:PUBLISH
BEGIN:VTIMEZONE
TZID:America/Los_Angeles
X-LIC-LOCATION:America/Los_Angeles
BEGIN:DAYLIGHT
TZOFFSETFROM:-0800
TZOFFSETTO:-0700
TZNAME:PDT
DTSTART:19700308T020000
RRULE:FREQ=YEARLY;BYMONTH=3;BYDAY=2SU
END:DAYLIGHT
BEGIN:STANDARD
TZOFFSETFROM:-0700
TZOFFSETTO:-0800
TZNAME:PST
DTSTART:19701101T020000
RRULE:FREQ=YEARLY;BYMONTH=11;BYDAY=1SU
END:STANDARD
END:VTIMEZONE
BEGIN:VEVENT
UID:1464587:Event:228435
DTSTAMP:20260421T194356Z
SUMMARY:Kindred the Family Soul (NYC)
DESCRIPTION:\nB.B. King Blues Club and GrillNew York, NY08:00 PM\n\nK
 indred the Family Soul\nFind Tickets »\n\n\n\n\nFor more information
  visit https://trueskool.com/events/kindred-the-family-soul-nyc-1
DTSTART;TZID=America/Los_Angeles:20130807T200000
DTEND;TZID=America/Los_Angeles:20130807T230000
CATEGORIES:new, york, ny
LOCATION:B.B. King Blues Club and Grill , NYC
WEBSITE:http://www.ticketmaster.com/kindred-the-family-soul-new-york-n
 ew-york-08-07-2013/event/00004A82AD3EAA45?artistid=885684&majorcatid=1
 0001&minorcatid=202
URL:http://www.ticketmaster.com/kindred-the-family-soul-new-york-new-y
 ork-08-07-2013/event/00004A82AD3EAA45?artistid=885684&majorcatid=10001
 &minorcatid=202
CONTACT:
ORGANIZER;CN="Editor's Pick":https://trueskool.com/profile/RentheVinyl
 Archaeologist
ATTACH;FMTTYPE="image/jpeg":http://storage.ning.com/topology/rest/1.0/
 file/get/2247916242?profile=original
ATTENDEE;ROLE=REQ-PARTICIPANT;PARTSTAT=ACCEPTED;RSVP=TRUE;CN="Editor's
  Pick":https://trueskool.com/profile/RentheVinylArchaeologist
END:VEVENT
END:VCALENDAR
