BEGIN:VCALENDAR
PRODID:NingEventWidget-v1
VERSION:2.0
METHOD:PUBLISH
BEGIN:VTIMEZONE
TZID:America/Los_Angeles
X-LIC-LOCATION:America/Los_Angeles
BEGIN:DAYLIGHT
TZOFFSETFROM:-0800
TZOFFSETTO:-0700
TZNAME:PDT
DTSTART:19700308T020000
RRULE:FREQ=YEARLY;BYMONTH=3;BYDAY=2SU
END:DAYLIGHT
BEGIN:STANDARD
TZOFFSETFROM:-0700
TZOFFSETTO:-0800
TZNAME:PST
DTSTART:19701101T020000
RRULE:FREQ=YEARLY;BYMONTH=11;BYDAY=1SU
END:STANDARD
END:VTIMEZONE
BEGIN:VEVENT
UID:1464587:Event:50336
DTSTAMP:20260421T112117Z
SUMMARY:Kidz In The Hall, 88-Keys, Izza Kizza, Donnis
DESCRIPTION:CLICK HERE TO WIN A PAIR OF TICKETS\n\nWEDNESDAY, MARCH 31
 \n\nWEDNESDAY, MARCH 31\nAnother Planet Entertainment presents\nKidz i
 n the Hall\n88-Keys\nw/ Izza Kizza\nDonnis\n\n@ The Independent, 628 D
 ivisadero, San Francisco Doors 7:30pm / Show 8:00pm\nTickets $13 Adv /
  $15 Door\nBuy Tickets\n\n\nFor more information visit https://truesko
 ol.com/events/kidz-in-the-hall-88keys-izza
DTSTART;TZID=America/Los_Angeles:20100331T200000
DTEND;TZID=America/Los_Angeles:20100401T230000
CATEGORIES:hip, hop
LOCATION:Independent, San Francisco
WEBSITE:http://www.independentsf.com
URL:http://www.independentsf.com
CONTACT:
ORGANIZER:Another Planet Entertainment
ATTACH;FMTTYPE="image/jpeg":http://storage.ning.com/topology/rest/1.0/
 file/get/2106906736?profile=original
ATTENDEE;ROLE=REQ-PARTICIPANT;PARTSTAT=ACCEPTED;RSVP=TRUE;CN="Helen R.
  Wu":https://trueskool.com/profile/HelenRWu
ATTENDEE;ROLE=REQ-PARTICIPANT;PARTSTAT=ACCEPTED;RSVP=TRUE;CN="Ren the 
 Vinyl Archaeologist":https://trueskool.com/profile/xh51jvilojur
END:VEVENT
END:VCALENDAR
