BEGIN:VCALENDAR
PRODID:NingEventWidget-v1
VERSION:2.0
METHOD:PUBLISH
BEGIN:VTIMEZONE
TZID:America/Los_Angeles
X-LIC-LOCATION:America/Los_Angeles
BEGIN:DAYLIGHT
TZOFFSETFROM:-0800
TZOFFSETTO:-0700
TZNAME:PDT
DTSTART:19700308T020000
RRULE:FREQ=YEARLY;BYMONTH=3;BYDAY=2SU
END:DAYLIGHT
BEGIN:STANDARD
TZOFFSETFROM:-0700
TZOFFSETTO:-0800
TZNAME:PST
DTSTART:19701101T020000
RRULE:FREQ=YEARLY;BYMONTH=11;BYDAY=1SU
END:STANDARD
END:VTIMEZONE
BEGIN:VEVENT
UID:1464587:Event:41624
DTSTAMP:20260420T231732Z
SUMMARY:Kid Sister (Win Tickets)
DESCRIPTION:WIN A PAIR OF TICKETS. Send your FULL NAME to trueskoolcon
 test@gmail.com with \"Kid Sister\" in the Subject Line. Winner will be
  drawn randomly 3 days prior to event.\n\n\nTHURSDAY, OCTOBER 22\nKid 
 Sister\n\nRickshaw Stop\n155 Fell (at Van Ness)\nSan Francisco CA\ndoo
 rs 8:30PM\nshow 9:00PM\nBuy Tickets\n\n\n\nFor more information visit 
 https://trueskool.com/events/kid-sister-win-tickets
DTSTART;TZID=America/Los_Angeles:20091022T203000
DTEND;TZID=America/Los_Angeles:20091022T230000
CATEGORIES:hip, hop, electro, hipster, rap
LOCATION:Rickshaw Stop, San Francisco, CA
WEBSITE:http://www.apeconcerts.com/popArtist07.cfm?cID=2227
URL:http://www.apeconcerts.com/popArtist07.cfm?cID=2227
CONTACT:
ORGANIZER:Another Planet Entertainment
ATTACH;FMTTYPE="image/jpeg":http://storage.ning.com/topology/rest/1.0/
 file/get/2247871480?profile=original
ATTENDEE;ROLE=REQ-PARTICIPANT;PARTSTAT=ACCEPTED;RSVP=TRUE;CN=Linda:htt
 ps://trueskool.com/profile/Linda
ATTENDEE;ROLE=REQ-PARTICIPANT;PARTSTAT=ACCEPTED;RSVP=TRUE;CN="Ren the 
 Vinyl Archaeologist":https://trueskool.com/profile/xh51jvilojur
END:VEVENT
END:VCALENDAR
