BEGIN:VCALENDAR
PRODID:NingEventWidget-v1
VERSION:2.0
METHOD:PUBLISH
BEGIN:VTIMEZONE
TZID:America/Los_Angeles
X-LIC-LOCATION:America/Los_Angeles
BEGIN:DAYLIGHT
TZOFFSETFROM:-0800
TZOFFSETTO:-0700
TZNAME:PDT
DTSTART:19700308T020000
RRULE:FREQ=YEARLY;BYMONTH=3;BYDAY=2SU
END:DAYLIGHT
BEGIN:STANDARD
TZOFFSETFROM:-0700
TZOFFSETTO:-0800
TZNAME:PST
DTSTART:19701101T020000
RRULE:FREQ=YEARLY;BYMONTH=11;BYDAY=1SU
END:STANDARD
END:VTIMEZONE
BEGIN:VEVENT
UID:1464587:Event:672118
DTSTAMP:20260422T000052Z
SUMMARY:KID KOALA’S VINYL VAUDEVILLE FLOOR KIDS EDITION
DESCRIPTION:ENTER TO WIN A PAIR OF TICKETS. WINNER WILL BE DRAWN RANDO
 MLY AND ANNOUNCED 2 DAYS PRIOR TO EVENT.\r\n\r\n\r\n\r\nMonday, May 07
 , 2018\r\nKID KOALA’S VINYL VAUDEVILLE FLOOR KIDS EDITION\r\n\r\nThe
  Independent\r\n San Francisco, CA\r\n Show: 8:00pm\r\nThis event is 2
 1 and over.\r\n$20.00 – General Admission (Advance)\r\n $22.00 – G
 eneral Admission (Door)\r\n*plus applicable service fees\r\nTickets av
 ailable at The Independent box office (628 Divisadero, SF) with no ser
 vice charge.\r\n>> BUY TICKETS\r\n\r\n\r\n\n\nFor more information vis
 it https://trueskool.com/events/kid-koala-s-vinyl-vaudeville-floor-kid
 s-edition
DTSTART;TZID=America/Los_Angeles:20180507T200000
DTEND;TZID=America/Los_Angeles:20180507T230000
CATEGORIES:"bay area", oakland, "san francisco", "san jose", berkeley
LOCATION:The Independent, San Francisco
WEBSITE:https://www.ticketfly.com/purchase/event/1586316?q=6b03ffc5-9c
 5b-48fc-a36c-a571b39431eb&amp;amp;p=d9f92bc9-9e9b-480d-8919-5992c19043
 fc&amp;amp;ts=1515020817&amp;amp;c=ticketfly&amp;amp;e=0010c&amp;amp;r
 t=Safetynet&amp;amp;h=69d36937873f628c011ad63b3865e202
URL:https://www.ticketfly.com/purchase/event/1586316?q=6b03ffc5-9c5b-4
 8fc-a36c-a571b39431eb&amp;amp;p=d9f92bc9-9e9b-480d-8919-5992c19043fc&a
 mp;amp;ts=1515020817&amp;amp;c=ticketfly&amp;amp;e=0010c&amp;amp;rt=Sa
 fetynet&amp;amp;h=69d36937873f628c011ad63b3865e202
CONTACT:
ORGANIZER;CN="Editor's Pick":https://trueskool.com/profile/RentheVinyl
 Archaeologist
ATTACH;FMTTYPE="image/jpeg":http://storage.ning.com/topology/rest/1.0/
 file/get/2248003623?profile=original
ATTENDEE;ROLE=REQ-PARTICIPANT;PARTSTAT=ACCEPTED;RSVP=TRUE;CN="Elisa Bj
 eldanes":https://trueskool.com/profile/ElisaBjeldanes
ATTENDEE;ROLE=REQ-PARTICIPANT;PARTSTAT=ACCEPTED;RSVP=TRUE;CN="Editor's
  Pick":https://trueskool.com/profile/RentheVinylArchaeologist
END:VEVENT
END:VCALENDAR
