BEGIN:VCALENDAR
PRODID:NingEventWidget-v1
VERSION:2.0
METHOD:PUBLISH
BEGIN:VTIMEZONE
TZID:America/Los_Angeles
X-LIC-LOCATION:America/Los_Angeles
BEGIN:DAYLIGHT
TZOFFSETFROM:-0800
TZOFFSETTO:-0700
TZNAME:PDT
DTSTART:19700308T020000
RRULE:FREQ=YEARLY;BYMONTH=3;BYDAY=2SU
END:DAYLIGHT
BEGIN:STANDARD
TZOFFSETFROM:-0700
TZOFFSETTO:-0800
TZNAME:PST
DTSTART:19701101T020000
RRULE:FREQ=YEARLY;BYMONTH=11;BYDAY=1SU
END:STANDARD
END:VTIMEZONE
BEGIN:VEVENT
UID:1464587:Event:76762
DTSTAMP:20260421T033147Z
SUMMARY:Kid Koala, DJ Swayzee, Jel, J House
DESCRIPTION:CLICK HERE TO WIN A PAIR OF TICKETS:\nhttp://www.trueskool
 .com/group/wintickets\nKID KOALA\nDJ SWAYZEE, JEL, J HOUSE\nFRI, FEBRU
 ARY 25, 2011\n9:00 PM\nMIGHTY\nSAN FRANCISCO, CA\n$18.00\nTICKETS\n\nT
 HIS EVENT IS 21 AND OVER\nLOUD PARTY: \"GET UP! GET DOWN! INDOOR BLOCK
  PARTY\" A LOUD SHAKE IT LOOSE TURNTABLE DANCE PARTY AT A CONCERT VENU
 E OR CLUB IN TOWN. JOIN US FOR A NIGHT OF SHORT-ATTENTION-SPAN PARTY R
 OCKIN' AND WRECKIN' ON 4 RECORD PLAYERS WITH ACTUAL STACKS OF WAX! THE
 RE WILL BE DANCING, SCRATCHING AND MUCH HOOPLA INCLUDING THE FIRST NUF
 ONIA PILLOW FIGHT WITH FOLEY AND A RAFFLE WITH REAL PRIZES! BRING YOUR
  DANCING SHOES AND SOME SMILES AND COME ON DOWN AND MAKE SOME NOISE. T
 HIS SHOW IS PART OF KID KOALA'S LOUD PARTY/QUIET WORK WEEKEND. HE WILL
  BE PLAYING A 5 HOUR SET ON SATURDAY FEBRUARY 26TH AS PART OF THE NOIS
 E POP CULTURE CLUB. SEE MORE INFORMATION HERE HTTP://2011.NOISEPOP.COM
 /CULTURE-CLUB $18 ADV/$20 DOORS\n\nFor more information visit https://
 trueskool.com/events/kid-koala-dj-swayzee-jel-j
DTSTART;TZID=America/Los_Angeles:20110225T210000
DTEND;TZID=America/Los_Angeles:20110226T030000
CATEGORIES:san, francisco, ca, bay
LOCATION:Mighty, San Francisco, CA
WEBSITE:http://www.ticketfly.com/purchase/event/25761
URL:http://www.ticketfly.com/purchase/event/25761
CONTACT:
ORGANIZER:Noise Pop & True Skool
ATTACH;FMTTYPE="image/jpeg":http://storage.ning.com/topology/rest/1.0/
 file/get/2247874027?profile=original
ATTENDEE;ROLE=REQ-PARTICIPANT;PARTSTAT=ACCEPTED;RSVP=TRUE;CN="Ren the 
 Vinyl Archaeologist":https://trueskool.com/profile/xh51jvilojur
END:VEVENT
END:VCALENDAR
