BEGIN:VCALENDAR
PRODID:NingEventWidget-v1
VERSION:2.0
METHOD:PUBLISH
BEGIN:VTIMEZONE
TZID:America/Los_Angeles
X-LIC-LOCATION:America/Los_Angeles
BEGIN:DAYLIGHT
TZOFFSETFROM:-0800
TZOFFSETTO:-0700
TZNAME:PDT
DTSTART:19700308T020000
RRULE:FREQ=YEARLY;BYMONTH=3;BYDAY=2SU
END:DAYLIGHT
BEGIN:STANDARD
TZOFFSETFROM:-0700
TZOFFSETTO:-0800
TZNAME:PST
DTSTART:19701101T020000
RRULE:FREQ=YEARLY;BYMONTH=11;BYDAY=1SU
END:STANDARD
END:VTIMEZONE
BEGIN:VEVENT
UID:1464587:Event:48245
DTSTAMP:20260421T125234Z
SUMMARY:Kid Koala
DESCRIPTION:CLICK HERE TO WIN A PAIR OF TICKETS\n\nSATURDAY, MARCH 27\
 n\nDan the Automator presents:\nAUDIO ALCHEMY\nAudio Alchemy is a new 
 bi-monthly series featuring vanguard DJs in the mix and performing wit
 h live musicians. It will boldly explore the role of the DJ in the cre
 ation of music today.\n\nFeaturing Kid Koala and special guests!\n\nwi
 th resident DJ Shortkut (Invisibl Skratch Piklz, Triple Threat) and th
 e Jazz Mafia All-Stars\n\nPlease note: Audio Alchemy takes place in th
 e Yoshi's San Francisco Restaurant, Lounge as well as the Jazz Club.\n
 \n@ Yoshi's, 1330 Fillmore St., San Francisco\n10:30pm, $20, 21+.\nBuy
  Tickets\n\nFor more information visit https://trueskool.com/events/ki
 d-koala-2
DTSTART;TZID=America/Los_Angeles:20100327T223000
DTEND;TZID=America/Los_Angeles:20100328T020000
CATEGORIES:hip, hop, turntablism
LOCATION:Yoshi's, San Francisco, CA
WEBSITE:http://www.yoshis.com
URL:http://www.yoshis.com
CONTACT:
ORGANIZER:Dan the Automator
ATTACH;FMTTYPE="image/jpeg":http://storage.ning.com/topology/rest/1.0/
 file/get/2247874027?profile=original
ATTENDEE;ROLE=REQ-PARTICIPANT;PARTSTAT=ACCEPTED;RSVP=TRUE;CN="Ren the 
 Vinyl Archaeologist":https://trueskool.com/profile/xh51jvilojur
END:VEVENT
END:VCALENDAR
