BEGIN:VCALENDAR
PRODID:NingEventWidget-v1
VERSION:2.0
METHOD:PUBLISH
BEGIN:VTIMEZONE
TZID:America/Los_Angeles
X-LIC-LOCATION:America/Los_Angeles
BEGIN:DAYLIGHT
TZOFFSETFROM:-0800
TZOFFSETTO:-0700
TZNAME:PDT
DTSTART:19700308T020000
RRULE:FREQ=YEARLY;BYMONTH=3;BYDAY=2SU
END:DAYLIGHT
BEGIN:STANDARD
TZOFFSETFROM:-0700
TZOFFSETTO:-0800
TZNAME:PST
DTSTART:19701101T020000
RRULE:FREQ=YEARLY;BYMONTH=11;BYDAY=1SU
END:STANDARD
END:VTIMEZONE
BEGIN:VEVENT
UID:1464587:Event:672026
DTSTAMP:20260422T031109Z
SUMMARY:KHALID
DESCRIPTION:2nd Show Added by Popular Demand!  Another Planet Entertai
 nment & Live Nation present The Roxy Tour\r\nKHALID\r\nBill Graham Civ
 ic Auditorium San Francisco, CA\r\nSunday, May 06, 2018 Doors: 6:30pm 
 | Show: 8:00pm\r\n$49.95 – General Admission\r\n*plus applicable ser
 vice fees\r\nTickets are also available service charge free at The Fox
  Theater’s Box Office (located on the 19th street side of the theate
 r) on show dates and on Fridays from noon – 7:00pm.\r\nAll doors & s
 how times subject to change.\n\nFor more information visit https://tru
 eskool.com/events/khalid
DTSTART;TZID=America/Los_Angeles:20180506T183000
DTEND;TZID=America/Los_Angeles:20180506T230000
CATEGORIES:"bay area", oakland, "san francisco", "san jose", berkeley
LOCATION:Bill Graham Civic Auditorium, SF
WEBSITE:https://www.ticketmaster.com/khalid-the-roxy-tour-san-francisc
 o-california-05-06-2018/event/1C0053753F4E853B?camefrom=CFC_ANOTHERPLA
 NET_web&amp;amp;brand=anotherplanet
URL:https://www.ticketmaster.com/khalid-the-roxy-tour-san-francisco-ca
 lifornia-05-06-2018/event/1C0053753F4E853B?camefrom=CFC_ANOTHERPLANET_
 web&amp;amp;brand=anotherplanet
CONTACT:
ORGANIZER;CN="Editor's Pick":https://trueskool.com/profile/RentheVinyl
 Archaeologist
ATTACH;FMTTYPE="image/jpeg":http://storage.ning.com/topology/rest/1.0/
 file/get/2248003648?profile=original
ATTENDEE;ROLE=REQ-PARTICIPANT;PARTSTAT=ACCEPTED;RSVP=TRUE;CN="Editor's
  Pick":https://trueskool.com/profile/RentheVinylArchaeologist
END:VEVENT
END:VCALENDAR
