BEGIN:VCALENDAR
PRODID:NingEventWidget-v1
VERSION:2.0
METHOD:PUBLISH
BEGIN:VTIMEZONE
TZID:America/Los_Angeles
X-LIC-LOCATION:America/Los_Angeles
BEGIN:DAYLIGHT
TZOFFSETFROM:-0800
TZOFFSETTO:-0700
TZNAME:PDT
DTSTART:19700308T020000
RRULE:FREQ=YEARLY;BYMONTH=3;BYDAY=2SU
END:DAYLIGHT
BEGIN:STANDARD
TZOFFSETFROM:-0700
TZOFFSETTO:-0800
TZNAME:PST
DTSTART:19701101T020000
RRULE:FREQ=YEARLY;BYMONTH=11;BYDAY=1SU
END:STANDARD
END:VTIMEZONE
BEGIN:VEVENT
UID:1464587:Event:68531
DTSTAMP:20260420T113024Z
SUMMARY:KGE Presents Silk E
DESCRIPTION:\n\nFriday Oct 29th\nKGE presents\nSilk E & The O Boyz\n\"
 You've seen her recently performing alongside Martin Luther, Too $hort
 , Kev Choice and Boots Riley & The Coup... ...Come see her solo perfor
 mance with her band Tha O Boyz live\n\n@ Blakes on Telegraph, 2367 Tel
 egraph Ave., Berkeley.\nThis is an 18+ event. $10 Presale/$12 @ the do
 or.\nGet your presale tickets at http://www.TicketWeb.com\n\nA Stroud 
 Management Enterprise Production.\n\n \n\nFor more information visit h
 ttps://trueskool.com/events/kge-presents-silk-e
DTSTART;TZID=America/Los_Angeles:20101029T210000
DTEND;TZID=America/Los_Angeles:20101030T020000
CATEGORIES:bay, area, berkeley, ca
LOCATION:Blakes, Berkeley, CA
WEBSITE:http://www.ticketweb.com/t3/sale/SaleEventDetail?dispatch=load
 SelectionData&eventId=3251745
URL:http://www.ticketweb.com/t3/sale/SaleEventDetail?dispatch=loadSele
 ctionData&eventId=3251745
CONTACT:
ORGANIZER:KGE
ATTACH;FMTTYPE="image/jpeg":http://storage.ning.com/topology/rest/1.0/
 file/get/2247885423?profile=original
ATTENDEE;ROLE=REQ-PARTICIPANT;PARTSTAT=ACCEPTED;RSVP=TRUE;CN="Ren the 
 Vinyl Archaeologist":https://trueskool.com/profile/xh51jvilojur
END:VEVENT
END:VCALENDAR
