BEGIN:VCALENDAR
PRODID:NingEventWidget-v1
VERSION:2.0
METHOD:PUBLISH
BEGIN:VTIMEZONE
TZID:America/Los_Angeles
X-LIC-LOCATION:America/Los_Angeles
BEGIN:DAYLIGHT
TZOFFSETFROM:-0800
TZOFFSETTO:-0700
TZNAME:PDT
DTSTART:19700308T020000
RRULE:FREQ=YEARLY;BYMONTH=3;BYDAY=2SU
END:DAYLIGHT
BEGIN:STANDARD
TZOFFSETFROM:-0700
TZOFFSETTO:-0800
TZNAME:PST
DTSTART:19701101T020000
RRULE:FREQ=YEARLY;BYMONTH=11;BYDAY=1SU
END:STANDARD
END:VTIMEZONE
BEGIN:VEVENT
UID:1464587:Event:38411
DTSTAMP:20260421T033247Z
SUMMARY:Keys N Krates LIVE! @ Club 6
DESCRIPTION:Know The Ledge\n( www.iknowtheldege.com)\n\npresents\n\nKE
 YS N KRATES\n\n\nw/ Special Guests\n\nDJ Franchise (KTL)\nDJ Sake1 (Lo
 cal 1200)\nDJ Double A\n\n\n\nStraight from Toronto, CA, the re-innova
 tors of the Remix are blessing the Bay Area with a show at Club 6 in t
 he heart of San Francisco. With a unique stage show that amazes and in
 spires, you will be rethinking of the possibilities of hip-hop once ag
 ain.\n\n\n\nAlso on stage are Know The Ledge's own DJ Franchise and th
 e Bay Area Legend, Sake1. DJ Double A will provide the sounds to set t
 he evening off right.\n\n\n$10 Cover, $5 before 10:30\n\nExpected Capa
 city event. Please line up early!\n\n\n\n\n\n\n\nwww.iknowtheledge.com
 \n\nwww.keysnkrates.com\n\n\n\nFor more information visit https://true
 skool.com/events/keys-n-krates-live-club-6
DTSTART;TZID=America/Los_Angeles:20090829T220000
DTEND;TZID=America/Los_Angeles:20090830T020000
CATEGORIES:hip-hop, live, remix
LOCATION:Club 6, San Francisco, CA
WEBSITE:http://www.iknowtheledge.com
URL:http://www.iknowtheledge.com
CONTACT:
ORGANIZER;CN=djfranchise:https://trueskool.com/profile/franchise
ATTACH;FMTTYPE="image/jpeg":http://storage.ning.com/topology/rest/1.0/
 file/get/2106897305?profile=original
ATTENDEE;ROLE=REQ-PARTICIPANT;PARTSTAT=ACCEPTED;RSVP=TRUE;CN=djfranchi
 se:https://trueskool.com/profile/franchise
END:VEVENT
END:VCALENDAR
