BEGIN:VCALENDAR
PRODID:NingEventWidget-v1
VERSION:2.0
METHOD:PUBLISH
BEGIN:VTIMEZONE
TZID:America/Los_Angeles
X-LIC-LOCATION:America/Los_Angeles
BEGIN:DAYLIGHT
TZOFFSETFROM:-0800
TZOFFSETTO:-0700
TZNAME:PDT
DTSTART:19700308T020000
RRULE:FREQ=YEARLY;BYMONTH=3;BYDAY=2SU
END:DAYLIGHT
BEGIN:STANDARD
TZOFFSETFROM:-0700
TZOFFSETTO:-0800
TZNAME:PST
DTSTART:19701101T020000
RRULE:FREQ=YEARLY;BYMONTH=11;BYDAY=1SU
END:STANDARD
END:VTIMEZONE
BEGIN:VEVENT
UID:1464587:Event:678955
DTSTAMP:20260421T080339Z
SUMMARY:KEYS N KRATES
DESCRIPTION:ENTER TO WIN A PAIR OF TICKETS. WINNER WILL BE DRAWN RANDO
 MLY AND ANNOUNCED 2 DAYS PRIOR TO EVENT.\r\n\r\n\r\n\r\nSaturday, Dece
 mber 15, 2018\r\nKEYS N KRATES\r\n\r\nSLIM'S333 11th St. San Francisco
 , CA 94103Doors: 8:00PM |Show: 9:00PM>> BUY TICKETS\r\n\n\nFor more in
 formation visit https://trueskool.com/events/keys-n-krates-2
DTSTART;TZID=America/Los_Angeles:20181215T210000
DTEND;TZID=America/Los_Angeles:20181215T230000
CATEGORIES:"bay area", oakland, "san francisco", "san jose", berkeley
LOCATION:SLIMS, SF
WEBSITE:https://www.eventbrite.com/e/keys-n-krates-slims-slims-dj-dial
 s-present-tickets-48970416835
URL:https://www.eventbrite.com/e/keys-n-krates-slims-slims-dj-dials-pr
 esent-tickets-48970416835
CONTACT:
ORGANIZER;CN="Editor's Pick":https://trueskool.com/profile/RentheVinyl
 Archaeologist
ATTACH;FMTTYPE="image/jpeg":http://storage.ning.com/topology/rest/1.0/
 file/get/2248010225?profile=original
ATTENDEE;ROLE=REQ-PARTICIPANT;PARTSTAT=ACCEPTED;RSVP=TRUE;CN="Editor's
  Pick":https://trueskool.com/profile/RentheVinylArchaeologist
END:VEVENT
END:VCALENDAR
