BEGIN:VCALENDAR
PRODID:NingEventWidget-v1
VERSION:2.0
METHOD:PUBLISH
BEGIN:VTIMEZONE
TZID:America/Los_Angeles
X-LIC-LOCATION:America/Los_Angeles
BEGIN:DAYLIGHT
TZOFFSETFROM:-0800
TZOFFSETTO:-0700
TZNAME:PDT
DTSTART:19700308T020000
RRULE:FREQ=YEARLY;BYMONTH=3;BYDAY=2SU
END:DAYLIGHT
BEGIN:STANDARD
TZOFFSETFROM:-0700
TZOFFSETTO:-0800
TZNAME:PST
DTSTART:19701101T020000
RRULE:FREQ=YEARLY;BYMONTH=11;BYDAY=1SU
END:STANDARD
END:VTIMEZONE
BEGIN:VEVENT
UID:1464587:Event:672135
DTSTAMP:20260421T065650Z
SUMMARY:Keys N Krates
DESCRIPTION:KEYS N KRATES\r\nSaturday, February 24, 2018 Show: 9:00PM\
 r\n1015 Folsom St San Francisco, CA 94103\r\n(415) 431-1200 1015 FOLSO
 M\n\nFor more information visit https://trueskool.com/events/keys-n-kr
 ates-1
DTSTART;TZID=America/Los_Angeles:20180224T210000
DTEND;TZID=America/Los_Angeles:20180224T230000
CATEGORIES:"bay area", oakland, "san francisco", "san jose", berkeley
LOCATION:1015 Folsom, San Francisco
WEBSITE:https://www.eventbrite.com/e/keys-n-krates-live-at-1015-folsom
 -tickets-40041889369?aff=gv
URL:https://www.eventbrite.com/e/keys-n-krates-live-at-1015-folsom-tic
 kets-40041889369?aff=gv
CONTACT:
ORGANIZER;CN="Editor's Pick":https://trueskool.com/profile/RentheVinyl
 Archaeologist
ATTACH;FMTTYPE="image/jpeg":http://storage.ning.com/topology/rest/1.0/
 file/get/2248004243?profile=original
ATTENDEE;ROLE=REQ-PARTICIPANT;PARTSTAT=ACCEPTED;RSVP=TRUE;CN="Editor's
  Pick":https://trueskool.com/profile/RentheVinylArchaeologist
END:VEVENT
END:VCALENDAR
