BEGIN:VCALENDAR
PRODID:NingEventWidget-v1
VERSION:2.0
METHOD:PUBLISH
BEGIN:VTIMEZONE
TZID:America/Los_Angeles
X-LIC-LOCATION:America/Los_Angeles
BEGIN:DAYLIGHT
TZOFFSETFROM:-0800
TZOFFSETTO:-0700
TZNAME:PDT
DTSTART:19700308T020000
RRULE:FREQ=YEARLY;BYMONTH=3;BYDAY=2SU
END:DAYLIGHT
BEGIN:STANDARD
TZOFFSETFROM:-0700
TZOFFSETTO:-0800
TZNAME:PST
DTSTART:19701101T020000
RRULE:FREQ=YEARLY;BYMONTH=11;BYDAY=1SU
END:STANDARD
END:VTIMEZONE
BEGIN:VEVENT
UID:1464587:Event:41172
DTSTAMP:20260423T002023Z
SUMMARY:Kevvy Kev's 29th Birthday
DESCRIPTION:Kevvy Kev's 29th Birthday!\nFeaturing\nPlanet Asia\n\nSpun
  Sugar All Night Provided By DJs\nToph 1\nTrue Justice\nJust Jay\n\nHo
 sted By:\nVannessa Tanya X\n\n\nPrice $5-$10\nTime 9pm-2am\nMusic Hip-
 Hop\n\nFor more information visit https://trueskool.com/events/kevvy-k
 evs-29th-birthday
DTSTART;TZID=America/Los_Angeles:20091002T210000
DTEND;TZID=America/Los_Angeles:20091003T030000
CATEGORIES:hip, hop
LOCATION:Club Six, San Francisco, CA
WEBSITE:http://www.clubsix1.com
URL:http://www.clubsix1.com
CONTACT:415-531-6593
ORGANIZER:Angel
ATTACH;FMTTYPE="image/jpeg":http://storage.ning.com/topology/rest/1.0/
 file/get/2247866697?profile=original
ATTENDEE;ROLE=REQ-PARTICIPANT;PARTSTAT=ACCEPTED;RSVP=TRUE;CN=Cecily:ht
 tps://trueskool.com/profile/Cecily
END:VEVENT
END:VCALENDAR
