BEGIN:VCALENDAR
PRODID:NingEventWidget-v1
VERSION:2.0
METHOD:PUBLISH
BEGIN:VTIMEZONE
TZID:America/Los_Angeles
X-LIC-LOCATION:America/Los_Angeles
BEGIN:DAYLIGHT
TZOFFSETFROM:-0800
TZOFFSETTO:-0700
TZNAME:PDT
DTSTART:19700308T020000
RRULE:FREQ=YEARLY;BYMONTH=3;BYDAY=2SU
END:DAYLIGHT
BEGIN:STANDARD
TZOFFSETFROM:-0700
TZOFFSETTO:-0800
TZNAME:PST
DTSTART:19701101T020000
RRULE:FREQ=YEARLY;BYMONTH=11;BYDAY=1SU
END:STANDARD
END:VTIMEZONE
BEGIN:VEVENT
UID:1464587:Event:836214
DTSTAMP:20260421T034244Z
SUMMARY:KEV CHOICE ENSEMBLE
DESCRIPTION:KEV CHOICE ENSEMBLE\r\nJune 27, 2025 Doors: 7:30PM / Show:
  8:00PM\r\nJune 27, 2025 Doors: 9:45PM / Show: 10:00PM\r\nYoshi's 510 
 Embarcadero West, Oakland, CA 94607\n\nFor more information visit http
 s://trueskool.com/events/kev-choice-ensemble-3
DTSTART;TZID=America/Los_Angeles:20250627T200000
DTEND;TZID=America/Los_Angeles:20250627T234500
CATEGORIES:"bay area", oakland, "san francisco", "san jose", berkeley
LOCATION:Yoshi's, Oakland
WEBSITE:https://yoshis.com/events/buy-tickets/kev-choice-ensemble-2/de
 tail
URL:https://yoshis.com/events/buy-tickets/kev-choice-ensemble-2/detail
CONTACT:
ORGANIZER;CN="Editor's Pick":https://trueskool.com/profile/RentheVinyl
 Archaeologist
ATTACH;FMTTYPE="image/jpeg":https://storage.ning.com/topology/rest/1.0
 /file/get/13533847259?profile=original
ATTENDEE;ROLE=REQ-PARTICIPANT;PARTSTAT=ACCEPTED;RSVP=TRUE;CN="Editor's
  Pick":https://trueskool.com/profile/RentheVinylArchaeologist
END:VEVENT
END:VCALENDAR
