BEGIN:VCALENDAR
PRODID:NingEventWidget-v1
VERSION:2.0
METHOD:PUBLISH
BEGIN:VTIMEZONE
TZID:America/Los_Angeles
X-LIC-LOCATION:America/Los_Angeles
BEGIN:DAYLIGHT
TZOFFSETFROM:-0800
TZOFFSETTO:-0700
TZNAME:PDT
DTSTART:19700308T020000
RRULE:FREQ=YEARLY;BYMONTH=3;BYDAY=2SU
END:DAYLIGHT
BEGIN:STANDARD
TZOFFSETFROM:-0700
TZOFFSETTO:-0800
TZNAME:PST
DTSTART:19701101T020000
RRULE:FREQ=YEARLY;BYMONTH=11;BYDAY=1SU
END:STANDARD
END:VTIMEZONE
BEGIN:VEVENT
UID:1464587:Event:810891
DTSTAMP:20260421T075049Z
SUMMARY:KEV CHOICE ENSEMBLE
DESCRIPTION:\r\nFRIDAY, OCTOBER 7\r\nKEV CHOICE ENSEMBLE\r\n\r\nYoshi'
 s 510 Embarcadero West, Oakland, CA 94607 DOORS: 7:30 PM / SHOW: 8:00 
 PM DOORS: 9:45 PM / SHOW: 10:00 PM\r\n>> BUY TICKETS\r\n\r\n\r\n\r\n\n
 \nFor more information visit https://trueskool.com/events/kev-choice-e
 nsemble-2
DTSTART;TZID=America/Los_Angeles:20221007T200000
DTEND;TZID=America/Los_Angeles:20221007T233000
CATEGORIES:"bay area", oakland, "san francisco", "san jose", berkeley
LOCATION:Yoshi's, Oakland
WEBSITE:https://yoshis.com/events/buy-tickets/kev-choice-ensemble/deta
 il
URL:https://yoshis.com/events/buy-tickets/kev-choice-ensemble/detail
CONTACT:
ORGANIZER:Yoshi's
ATTACH;FMTTYPE="image/jpeg":https://storage.ning.com/topology/rest/1.0
 /file/get/10739618472?profile=original
ATTENDEE;ROLE=REQ-PARTICIPANT;PARTSTAT=ACCEPTED;RSVP=TRUE;CN="Editor's
  Pick":https://trueskool.com/profile/RentheVinylArchaeologist
END:VEVENT
END:VCALENDAR
