BEGIN:VCALENDAR
PRODID:NingEventWidget-v1
VERSION:2.0
METHOD:PUBLISH
BEGIN:VTIMEZONE
TZID:America/Los_Angeles
X-LIC-LOCATION:America/Los_Angeles
BEGIN:DAYLIGHT
TZOFFSETFROM:-0800
TZOFFSETTO:-0700
TZNAME:PDT
DTSTART:19700308T020000
RRULE:FREQ=YEARLY;BYMONTH=3;BYDAY=2SU
END:DAYLIGHT
BEGIN:STANDARD
TZOFFSETFROM:-0700
TZOFFSETTO:-0800
TZNAME:PST
DTSTART:19701101T020000
RRULE:FREQ=YEARLY;BYMONTH=11;BYDAY=1SU
END:STANDARD
END:VTIMEZONE
BEGIN:VEVENT
UID:1464587:Event:292756
DTSTAMP:20260420T230257Z
SUMMARY:Kev Choice Ensemble
DESCRIPTION:Oakland Riviera Release Party!\nThursday, January 168pm $
 17 adv / $20 day-of\n\nFor more information visit https://trueskool.co
 m/events/kev-choice-ensemble-1
DTSTART;TZID=America/Los_Angeles:20140116T200000
DTEND;TZID=America/Los_Angeles:20140116T230000
CATEGORIES:"bay area", "san francisco", "oakland\""
LOCATION:Yoshi's, Oakland
WEBSITE:http://yoshis.inticketing.com/events/354911/8pm%20-%20KEV%20CH
 OICE
URL:http://yoshis.inticketing.com/events/354911/8pm%20-%20KEV%20CHOICE
CONTACT:
ORGANIZER;CN="Editor's Pick":https://trueskool.com/profile/RentheVinyl
 Archaeologist
ATTACH;FMTTYPE="image/jpeg":http://storage.ning.com/topology/rest/1.0/
 file/get/2247955455?profile=original
ATTENDEE;ROLE=REQ-PARTICIPANT;PARTSTAT=ACCEPTED;RSVP=TRUE;CN="Editor's
  Pick":https://trueskool.com/profile/RentheVinylArchaeologist
END:VEVENT
END:VCALENDAR
