BEGIN:VCALENDAR
PRODID:NingEventWidget-v1
VERSION:2.0
METHOD:PUBLISH
BEGIN:VTIMEZONE
TZID:America/Los_Angeles
X-LIC-LOCATION:America/Los_Angeles
BEGIN:DAYLIGHT
TZOFFSETFROM:-0800
TZOFFSETTO:-0700
TZNAME:PDT
DTSTART:19700308T020000
RRULE:FREQ=YEARLY;BYMONTH=3;BYDAY=2SU
END:DAYLIGHT
BEGIN:STANDARD
TZOFFSETFROM:-0700
TZOFFSETTO:-0800
TZNAME:PST
DTSTART:19701101T020000
RRULE:FREQ=YEARLY;BYMONTH=11;BYDAY=1SU
END:STANDARD
END:VTIMEZONE
BEGIN:VEVENT
UID:1464587:Event:834417
DTSTAMP:20260421T050656Z
SUMMARY:KERRI CHANDLER
DESCRIPTION:KERRI CHANDLER\r\nStarts on Friday, March 7 · 9:30pm PST\
 r\nThe Great Northern 119 Utah St. San Francisco, CA\n\nFor more infor
 mation visit https://trueskool.com/events/kerri-chandler
DTSTART;TZID=America/Los_Angeles:20250307T213000
DTEND;TZID=America/Los_Angeles:20250307T230000
CATEGORIES:"bay area", oakland, "san francisco", "san jose", berkeley
LOCATION:The Great Northern, SF
WEBSITE:https://www.eventbrite.com/e/mighty-real-presents-kerri-chandl
 er-tickets-1220024489089?aff=oddtdtcreator&amp;_gl=1%2Af9yfcb%2A_up%2A
 MQ..%2A_ga%2AMTU2OTY1ODU4LjE3MzgwOTgzMDQ.%2A_ga_TQVES5V6SH%2AMTczODA5O
 DMwMy4xLjAuMTczODA5ODMwMy4wLjAuMA..
URL:https://www.eventbrite.com/e/mighty-real-presents-kerri-chandler-t
 ickets-1220024489089?aff=oddtdtcreator&amp;_gl=1%2Af9yfcb%2A_up%2AMQ..
 %2A_ga%2AMTU2OTY1ODU4LjE3MzgwOTgzMDQ.%2A_ga_TQVES5V6SH%2AMTczODA5ODMwM
 y4xLjAuMTczODA5ODMwMy4wLjAuMA..
CONTACT:
ORGANIZER;CN="Editor's Pick":https://trueskool.com/profile/RentheVinyl
 Archaeologist
ATTACH;FMTTYPE="image/jpeg":https://storage.ning.com/topology/rest/1.0
 /file/get/13432260074?profile=original
ATTENDEE;ROLE=REQ-PARTICIPANT;PARTSTAT=ACCEPTED;RSVP=TRUE;CN="Editor's
  Pick":https://trueskool.com/profile/RentheVinylArchaeologist
END:VEVENT
END:VCALENDAR
