BEGIN:VCALENDAR
PRODID:NingEventWidget-v1
VERSION:2.0
METHOD:PUBLISH
BEGIN:VTIMEZONE
TZID:America/Los_Angeles
X-LIC-LOCATION:America/Los_Angeles
BEGIN:DAYLIGHT
TZOFFSETFROM:-0800
TZOFFSETTO:-0700
TZNAME:PDT
DTSTART:19700308T020000
RRULE:FREQ=YEARLY;BYMONTH=3;BYDAY=2SU
END:DAYLIGHT
BEGIN:STANDARD
TZOFFSETFROM:-0700
TZOFFSETTO:-0800
TZNAME:PST
DTSTART:19701101T020000
RRULE:FREQ=YEARLY;BYMONTH=11;BYDAY=1SU
END:STANDARD
END:VTIMEZONE
BEGIN:VEVENT
UID:1464587:Event:277634
DTSTAMP:20260421T124219Z
SUMMARY:Kensho Kuma @Boom Boom Room 12/08
DESCRIPTION:Bilingual Japanese MC Kensho Kuma will be headlining the B
 oom Boom Room (1601 Fillmore, SF) on 12/08. Kuma is the featured artis
 t at the ongoing \"Return of the Cypher\" jam session which goes down 
 every Sunday. Rappers/ MC's are encouraged to participate during the o
 pen mic segment. Free Show!\n\n\nFor more information visit https://tr
 ueskool.com/events/kensho-kuma-boom-boom-room-12-08
DTSTART;TZID=America/Los_Angeles:20131208T200000
DTEND;TZID=America/Los_Angeles:20131209T020000
CATEGORIES:"japanese hip hop", "independent hip hop", "underground hip
  hop", "kensho kuma", "dj kevvy kev", "boom boom room", "san francisco
  hip hop"
LOCATION:Boom Boom Room, San Francisco
WEBSITE:http://www.kenshokuma.com
URL:http://www.kenshokuma.com
CONTACT:
ORGANIZER;CN="Kensho Kuma":https://trueskool.com/profile/KenshoKuma
ATTACH;FMTTYPE="image/jpeg":http://storage.ning.com/topology/rest/1.0/
 file/get/2247953695?profile=original
ATTENDEE;ROLE=REQ-PARTICIPANT;PARTSTAT=ACCEPTED;RSVP=TRUE;CN="Kensho K
 uma":https://trueskool.com/profile/KenshoKuma
END:VEVENT
END:VCALENDAR
