BEGIN:VCALENDAR
PRODID:NingEventWidget-v1
VERSION:2.0
METHOD:PUBLISH
BEGIN:VTIMEZONE
TZID:America/Los_Angeles
X-LIC-LOCATION:America/Los_Angeles
BEGIN:DAYLIGHT
TZOFFSETFROM:-0800
TZOFFSETTO:-0700
TZNAME:PDT
DTSTART:19700308T020000
RRULE:FREQ=YEARLY;BYMONTH=3;BYDAY=2SU
END:DAYLIGHT
BEGIN:STANDARD
TZOFFSETFROM:-0700
TZOFFSETTO:-0800
TZNAME:PST
DTSTART:19701101T020000
RRULE:FREQ=YEARLY;BYMONTH=11;BYDAY=1SU
END:STANDARD
END:VTIMEZONE
BEGIN:VEVENT
UID:1464587:Event:811284
DTSTAMP:20260422T012621Z
SUMMARY:Kendrick Lamar
DESCRIPTION:\r\nWEDNESDAY, AUG 31 KENDRICK LAMAR\r\n@ Oakland Arena, O
 akland\r\n>> BUY TICKETS\n\nFor more information visit https://truesko
 ol.com/events/kendrick-lamar-2
DTSTART;TZID=America/Los_Angeles:20220831T193000
DTEND;TZID=America/Los_Angeles:20220831T233000
CATEGORIES:"bay area", oakland
LOCATION:Oakland Arena, Oakland, CA
WEBSITE:https://www.ticketmaster.com/kendrick-lamar-tickets/artist/148
 0454?fbclid=IwAR1P2WVQRjfmu6qwqsL7fKZCN4zu12qfRh1LOFts8wYaGzJLdk4c-9qo
 gGs
URL:https://www.ticketmaster.com/kendrick-lamar-tickets/artist/1480454
 ?fbclid=IwAR1P2WVQRjfmu6qwqsL7fKZCN4zu12qfRh1LOFts8wYaGzJLdk4c-9qogGs
CONTACT:
ORGANIZER;CN="Editor's Pick":https://trueskool.com/profile/RentheVinyl
 Archaeologist
ATTACH;FMTTYPE="image/jpeg":https://storage.ning.com/topology/rest/1.0
 /file/get/10785709061?profile=original
ATTENDEE;ROLE=REQ-PARTICIPANT;PARTSTAT=ACCEPTED;RSVP=TRUE;CN="Editor's
  Pick":https://trueskool.com/profile/RentheVinylArchaeologist
END:VEVENT
END:VCALENDAR
