BEGIN:VCALENDAR
PRODID:NingEventWidget-v1
VERSION:2.0
METHOD:PUBLISH
BEGIN:VTIMEZONE
TZID:America/Los_Angeles
X-LIC-LOCATION:America/Los_Angeles
BEGIN:DAYLIGHT
TZOFFSETFROM:-0800
TZOFFSETTO:-0700
TZNAME:PDT
DTSTART:19700308T020000
RRULE:FREQ=YEARLY;BYMONTH=3;BYDAY=2SU
END:DAYLIGHT
BEGIN:STANDARD
TZOFFSETFROM:-0700
TZOFFSETTO:-0800
TZNAME:PST
DTSTART:19701101T020000
RRULE:FREQ=YEARLY;BYMONTH=11;BYDAY=1SU
END:STANDARD
END:VTIMEZONE
BEGIN:VEVENT
UID:1464587:Event:267609
DTSTAMP:20260421T195448Z
SUMMARY:KEM Christmas Tour
DESCRIPTION:KEM - Christmas Tour\nThursday December 12, 2013\n\nSPECS\
 n\nThe Warfield\nSan Francisco, CA\nShow time: 8:00pm\nDoor time: 7:00
 pm\nAge: All Ages+\n\n\nTICKETS\n\nTickets Available: Friday October 2
 5, 2013\n$49.50 - $89.50*\n* Service and/or handling fees are added to
  the price of each ticket.\n\n\n \n\nFor more information visit https
 ://trueskool.com/events/kem-christmas-tour-1
DTSTART;TZID=America/Los_Angeles:20131212T200000
DTEND;TZID=America/Los_Angeles:20131212T230000
CATEGORIES:"san francisco"
LOCATION:The Warfield, San Francisco
WEBSITE:http://www.axs.com/venues/101734/the-warfield-san-francisco-ti
 ckets
URL:http://www.axs.com/venues/101734/the-warfield-san-francisco-ticket
 s
CONTACT:
ORGANIZER;CN="Editor's Pick":https://trueskool.com/profile/RentheVinyl
 Archaeologist
ATTACH;FMTTYPE="image/jpeg":http://storage.ning.com/topology/rest/1.0/
 file/get/2247952740?profile=original
ATTENDEE;ROLE=REQ-PARTICIPANT;PARTSTAT=ACCEPTED;RSVP=TRUE;CN="Editor's
  Pick":https://trueskool.com/profile/RentheVinylArchaeologist
END:VEVENT
END:VCALENDAR
