BEGIN:VCALENDAR
PRODID:NingEventWidget-v1
VERSION:2.0
METHOD:PUBLISH
BEGIN:VTIMEZONE
TZID:America/Los_Angeles
X-LIC-LOCATION:America/Los_Angeles
BEGIN:DAYLIGHT
TZOFFSETFROM:-0800
TZOFFSETTO:-0700
TZNAME:PDT
DTSTART:19700308T020000
RRULE:FREQ=YEARLY;BYMONTH=3;BYDAY=2SU
END:DAYLIGHT
BEGIN:STANDARD
TZOFFSETFROM:-0700
TZOFFSETTO:-0800
TZNAME:PST
DTSTART:19701101T020000
RRULE:FREQ=YEARLY;BYMONTH=11;BYDAY=1SU
END:STANDARD
END:VTIMEZONE
BEGIN:VEVENT
UID:1464587:Event:259196
DTSTAMP:20260420T230205Z
SUMMARY:KEM (Chicago)
DESCRIPTION:\n DEC  \n28\nSAT\n\nArie Crown TheaterChicago, IL08:0
 0 PM\n\nHoliday Jam Featuring Kem, Faith Evans, & El DebargeDetails: K
 em, Faith Evans, El Debarge\nFind Tickets\n\n\n\n\nFor more informat
 ion visit https://trueskool.com/events/kem-chicago
DTSTART;TZID=America/Los_Angeles:20131228T200000
DTEND;TZID=America/Los_Angeles:20131228T230000
CATEGORIES:chicago
LOCATION:Arie Crown Theater, Chicago
WEBSITE:http://www.ticketmaster.com/holiday-jam-featuring-kem-faith-ev
 ans-chicago-illinois-12-28-2013/event/07004B30AE334EB0?artistid=888133
 &majorcatid=10001&minorcatid=202&tm_link=artist_msg-0_07004B30AE334EB0
URL:http://www.ticketmaster.com/holiday-jam-featuring-kem-faith-evans-
 chicago-illinois-12-28-2013/event/07004B30AE334EB0?artistid=888133&maj
 orcatid=10001&minorcatid=202&tm_link=artist_msg-0_07004B30AE334EB0
CONTACT:
ORGANIZER;CN="Editor's Pick":https://trueskool.com/profile/RentheVinyl
 Archaeologist
ATTACH;FMTTYPE="image/jpeg":http://storage.ning.com/topology/rest/1.0/
 file/get/2247949961?profile=original
ATTENDEE;ROLE=REQ-PARTICIPANT;PARTSTAT=ACCEPTED;RSVP=TRUE;CN="Editor's
  Pick":https://trueskool.com/profile/RentheVinylArchaeologist
END:VEVENT
END:VCALENDAR
