BEGIN:VCALENDAR
PRODID:NingEventWidget-v1
VERSION:2.0
METHOD:PUBLISH
BEGIN:VTIMEZONE
TZID:America/Los_Angeles
X-LIC-LOCATION:America/Los_Angeles
BEGIN:DAYLIGHT
TZOFFSETFROM:-0800
TZOFFSETTO:-0700
TZNAME:PDT
DTSTART:19700308T020000
RRULE:FREQ=YEARLY;BYMONTH=3;BYDAY=2SU
END:DAYLIGHT
BEGIN:STANDARD
TZOFFSETFROM:-0700
TZOFFSETTO:-0800
TZNAME:PST
DTSTART:19701101T020000
RRULE:FREQ=YEARLY;BYMONTH=11;BYDAY=1SU
END:STANDARD
END:VTIMEZONE
BEGIN:VEVENT
UID:1464587:Event:473041
DTSTAMP:20260421T032837Z
SUMMARY:(keep on) REACHIN'
DESCRIPTION:(keep on) REACHIN’TRIAL RUN: Wed, Nov 19 & Wed, Nov 26Af
 ter a bit of a hiatus we are back with a weekly Soulful House and Danc
 e Music party in Oakland.\nExpect good soulful music from the global d
 ance music diaspora, expect guest DJs from around the world as well as
  local Oakland talent and expect a great diversity of Party People.\nA
 s stated above this is the TRIAL run! Which means we need a good turn 
 out for these two Wednesdays (Nov 19 and Nov 26), if we want to make t
 his a weekly home for soulful dance music – so PLEASE SHARE this wit
 h your folks!\nBrothers & Sisters Presents(keep on) REACHIN’\n@Legio
 nnaire Saloon2272 Telegraph, Oakland CAw/ Dj Dedan & GuestsSpinning So
 ulful Global Underground Dance Music\nThe Trial Run Dates:Wednesday No
 v 19, 2014 &Wednesday Nov 26, 2014\nNo Cover\nThank You and KEEP ON RE
 ACHIN’\nmixcloud: http://www.mixcloud.com/DjDedanfacebook: https:/
 /www.facebook.com/events/398048793679720/twitter: https://twitter.com
 /DjDedan\n\n\n\nFor more information visit https://trueskool.com/event
 s/keep-on-reachin
DTSTART;TZID=America/Los_Angeles:20141126T220000
DTEND;TZID=America/Los_Angeles:20141127T020000
CATEGORIES:oakland, "san francisco", "bay area", california
LOCATION:The Legionnaire Saloon, Oakland
WEBSITE:https://www.facebook.com/LegionnaireSaloon
URL:https://www.facebook.com/LegionnaireSaloon
CONTACT:
ORGANIZER;CN="Dedan Anderson":https://trueskool.com/profile/DedanAnder
 son
ATTACH;FMTTYPE="image/jpeg":
ATTENDEE;ROLE=REQ-PARTICIPANT;PARTSTAT=ACCEPTED;RSVP=TRUE;CN="Dedan An
 derson":https://trueskool.com/profile/DedanAnderson
END:VEVENT
END:VCALENDAR
