BEGIN:VCALENDAR
PRODID:NingEventWidget-v1
VERSION:2.0
METHOD:PUBLISH
BEGIN:VTIMEZONE
TZID:America/Los_Angeles
X-LIC-LOCATION:America/Los_Angeles
BEGIN:DAYLIGHT
TZOFFSETFROM:-0800
TZOFFSETTO:-0700
TZNAME:PDT
DTSTART:19700308T020000
RRULE:FREQ=YEARLY;BYMONTH=3;BYDAY=2SU
END:DAYLIGHT
BEGIN:STANDARD
TZOFFSETFROM:-0700
TZOFFSETTO:-0800
TZNAME:PST
DTSTART:19701101T020000
RRULE:FREQ=YEARLY;BYMONTH=11;BYDAY=1SU
END:STANDARD
END:VTIMEZONE
BEGIN:VEVENT
UID:1464587:Event:292274
DTSTAMP:20260421T052636Z
SUMMARY:KCRW presents theLIFT w/ PSYCHEMAGIK + DJ SPUN
DESCRIPTION:Needless to say LA, we feel so fortunate to AGAIN host the
 se two fine stars of the cosmic nu-disco age. PSYCHEMAGIK with remixes
  and edits of Talking Heads, Fleetwood Mac, Yacht, Metronomy, Wang Chu
 ng and so many more !! please join us in welcoming them back to theLIF
 T and LA on 1/11  \"Spectacular ...such class and style\" – KCRW  
    \"Stars of 2012\" – Mixmag \"An ear for mind-expanding dance fl
 oor mysticism\" ­– FACT Mag      “Fucking Brilliant” ­- DJ 
 Mag  + DJ SPUN (RONG MUSIC - NYC) and we're honored to welcome the leg
 endary underground maestro and RONG MUSIC label head, DJ SPUN to his f
 irst LIFT experience!!!  10pm - 3am !!!  with theLIFT co-creators/resi
 dents: • JEREMY SOLE (KCRW / AFRO FUNKÉ - LA) • WISEACRE (the303 
 - NYC)  Certainly with these fine players we have a celebration to ign
 ite a dancefloor for 2014. recognizing the new sounds of PSYCHEMAGIK w
 ith the legendary late night selections of SPUN, we believe this one w
 ill set the tone for a delightful year in underground music. Join us L
 A!!  * visuals by ACIDWASH * turbosound by VICTOR * delicious foods on
  the Kobos Patio * one massive mirrorball  our fearless ringleader and
  producer: JONATHAN RUDNICK  21+ / NO GUESTLIST, THANKS FOR SUPPORTING
  \n\nFor more information visit https://trueskool.com/events/kcrw-pres
 ents-thelift-w-psychemagik-dj-spun
DTSTART;TZID=America/Los_Angeles:20140111T220000
DTEND;TZID=America/Los_Angeles:20140112T030000
CATEGORIES:los, angeles, downtown, la, dtla, thelift
LOCATION:333 Live
WEBSITE:http://iwannabewithyoueverywhere.eventbrite.com/
URL:http://iwannabewithyoueverywhere.eventbrite.com/
CONTACT:
ORGANIZER:theLIFT
ATTACH;FMTTYPE="image/jpeg":http://storage.ning.com/topology/rest/1.0/
 file/get/2247956123?profile=original
ATTENDEE;ROLE=REQ-PARTICIPANT;PARTSTAT=ACCEPTED;RSVP=TRUE;CN="Jonathan
  Rudnick":https://trueskool.com/profile/JonathanRudnick
END:VEVENT
END:VCALENDAR
