BEGIN:VCALENDAR
PRODID:NingEventWidget-v1
VERSION:2.0
METHOD:PUBLISH
BEGIN:VTIMEZONE
TZID:America/Los_Angeles
X-LIC-LOCATION:America/Los_Angeles
BEGIN:DAYLIGHT
TZOFFSETFROM:-0800
TZOFFSETTO:-0700
TZNAME:PDT
DTSTART:19700308T020000
RRULE:FREQ=YEARLY;BYMONTH=3;BYDAY=2SU
END:DAYLIGHT
BEGIN:STANDARD
TZOFFSETFROM:-0700
TZOFFSETTO:-0800
TZNAME:PST
DTSTART:19701101T020000
RRULE:FREQ=YEARLY;BYMONTH=11;BYDAY=1SU
END:STANDARD
END:VTIMEZONE
BEGIN:VEVENT
UID:1464587:Event:404477
DTSTAMP:20260421T055028Z
SUMMARY:KCRW presents theLIFT feat MR. SCRUFF + LOW LEAF
DESCRIPTION:KCRW presents theLIFT  featuring MR. SCRUFF - 4 HR DJ SET 
  ((EXCLUSIVE LA APPEARANCE))\n+ very special LIVE set by LOW LEAF just
  added !!!\n Listen to her stunning new FRESH SELECTS album AKAASHALAY
 \nAll things LOW LEAF here \n+ theLIFT founders/residents: JEREMY SOLE
  (KCRW / MUSAICS - LA) & WISEACRE (the303 - NYC)  our fearless ringlea
 der / producer: JONATHAN RUDNICK (BROWNSWOOD / FIFTY SEVEN / FLAVORPIL
 L / NOISE POP / GIANT STEP co-founder)  ***EARLY SUNDAY SET TIMES*** J
 EREMY SOLE & WISEACRE 8-8.45pm LOW LEAF live 8.45-9.30pm MR. SCRUFF 9.
 30pm-1.30am  it's been 6 too long years since LA has been blessed by t
 he quirky sexy sounds of MR. SCRUFF in his famous extended DJ sets ...
  we are so delighted to have him back with us in a RARE & exclusive So
 uthern California appearance!! This time around SCRUFF is touring behi
 nd his new NINJA TUNE release \"FRIENDLY BACTERIA\".   Join us for a u
 nforgettable Sunday Funday at the legendary MAYAN THEATER in DTLA. Doo
 rs are 8pm, and expect a 4-HOUR extended set by this man from Manchest
 er... loads of tunes without boundaries!  https://soundcloud.com/mr-sc
 ruff  NINJA TUNE veteran & supreme selector MR. SCRUFF will be at the 
 controls for the whole night, serving up a melting pot of jazz, soul, 
 hip hop, funk, disco, deep house, reggae, dubstep, afrobeat, latin, el
 ectrofunk and plenty of goodies that don’t fit into any category... 
 and no lumps of fat or gristle! Expect fantastic sound, a lovely mixed
  crowd & great atmosphere. Opening sets by theLIFT founders WISEACRE &
  JEREMY SOLE.  8pm-1.30am • 21 w/ ID • $20 ADV TIX while they last
 ! http://getamoveonscruff.eventbrite.com/\n\nFor more information visi
 t https://trueskool.com/events/kcrw-presents-thelift-feat-mr-scruff-lo
 w-leaf
DTSTART;TZID=America/Los_Angeles:20140817T200000
DTEND;TZID=America/Los_Angeles:20140818T013000
CATEGORIES:los, angeles, downtown, la
LOCATION:Mayan Theater, Los Angeles
WEBSITE:http://getamoveonscruff.eventbrite.com/
URL:http://getamoveonscruff.eventbrite.com/
CONTACT:
ORGANIZER:Jonathan Rudnick theLIFT
ATTACH;FMTTYPE="image/jpeg":http://storage.ning.com/topology/rest/1.0/
 file/get/2247965838?profile=original
ATTENDEE;ROLE=REQ-PARTICIPANT;PARTSTAT=ACCEPTED;RSVP=TRUE;CN="Jonathan
  Rudnick":https://trueskool.com/profile/JonathanRudnick
END:VEVENT
END:VCALENDAR
