BEGIN:VCALENDAR
PRODID:NingEventWidget-v1
VERSION:2.0
METHOD:PUBLISH
BEGIN:VTIMEZONE
TZID:America/Los_Angeles
X-LIC-LOCATION:America/Los_Angeles
BEGIN:DAYLIGHT
TZOFFSETFROM:-0800
TZOFFSETTO:-0700
TZNAME:PDT
DTSTART:19700308T020000
RRULE:FREQ=YEARLY;BYMONTH=3;BYDAY=2SU
END:DAYLIGHT
BEGIN:STANDARD
TZOFFSETFROM:-0700
TZOFFSETTO:-0800
TZNAME:PST
DTSTART:19701101T020000
RRULE:FREQ=YEARLY;BYMONTH=11;BYDAY=1SU
END:STANDARD
END:VTIMEZONE
BEGIN:VEVENT
UID:1464587:Event:308575
DTSTAMP:20260420T232228Z
SUMMARY:KCRW.COM presents theLIFT (SF) 4 YEAR ANNIVERSARY w/ GILLES PE
 TERSON + TOSHIO MATSUURA (U.F.O - Tokyo) + JEREMY SOLE (KCRW-LA) & WIS
 EACRE (the303-NYC)
DESCRIPTION:since it's humble beginnings in january 2010, theLIFT has 
 \"grown up\" and matured into a powerhouse event in LA, SF, NY and bey
 ond - created and hosted by JEREMY SOLE & ERIC TUCKER (DJ WISEACRE), &
  JONATHAN RUDNICK (Giant Step co-founder/Noise Pop/Flavorpill) all wit
 h an unbridled love and energy of a well-executed party, dedicated to 
 the dance & music community.\neach month theLIFT discovers unique loca
 tions to house their monthly invocation that has seen the talents of G
 ILLES PETERSON, HIATUS KAIYOTE, MOODYMANN, PSYCHEMAGIK, BLACK COFFEE, 
 DANNY KRIVIT, BONOBO, BENJI B, PETER KRUDER, JUAN MACLEAN, NICKODEMUS,
  KARIZMA, SPINNA, KING BRITT, MARK DE CLIVE LOWE, ELECTRIC WIRE HUSTLE
  to name some.\nhttps://www.facebook.com/tryandfindus  it is with much
  pleasure we return to the bay area with the world's most celebrated m
 usic lover GILLES PETERSON to realize FOUR YEARS of this madness we ca
 ll theLIFT + coming direct from Tokyo welcome TOSHIO MATSUURA of the l
 egendary UNITED FUTURE ORGANIZATION + JEREMY SOLE (KCRW) & WISEACRE (t
 he303 NYC)  For all things GILLES PETERSON check in at: http://www.gil
 lespetersonworldwide.com/  When all is said and done, whichever role G
 illes is performing – DJ, broadcaster, producer, compiler, label bos
 s or plain old record collector – the music is always the bottom lin
 e.  Starting off life as a club DJ, Gilles continues to spin regularly
  around the world. As for the radio, his new 3-hour Saturday show on B
 BC Radio 6 Music has seen him take his unique musical mix to a new aud
 ience & where luminaries like Thom Yorke, Erykah Badu, Toro y Moi drop
  in; whilst his syndicated Worldwide radio show spreads his musical go
 spel globally. From Sun-Ra to Herbie Hancock, James Blake, Theo Parris
 h to Flying Lotus, Nina Simone to Laura Mvula – if it swings in the 
 right places, it’s in!  From Acid Jazz to Talkin’ Loud and now Bro
 wnswood, Gilles’s work as A&R, producer; remixer and as worldwide co
 mpilations only intensifies. His love affair with Cuba and its subcult
 ures has manifested itself in 5 albums as “Havana Cultura”. The la
 test of these excursions – ‘Mala in Cuba’ – sent tremors throu
 gh the electronic underground.  Look for more amazing Brownswood relea
 se like Zara McFarlane, Anushka and DIggs Dukes !\n-------------------
 -----------------------------about TOSHIO MATSUURA / U.F.Ohttp://toshi
 omatsuura.com/https://soundcloud.com/toshiomatsuuraIn 1990 Toshio co-f
 ounded the mighty UNITED FUTURE ORGANIZATION (U.F.O) in Tokyo (signed 
 to GILLES' Talkin' Loud label) which quickly established the beginning
  of a serious jazz groove Japanese club culture along the same lines a
 s the legendary GILLES PETERSON in the UK with Dingwalls and the acid-
 jazz movement. Over 12 years U.F.O released 5 amazing full albums worl
 dwide, and gained a global reputation ! Their now classic dancefloor t
 unes, such as 'I love My Baby, My Baby Loves Jazz', 'Loud Minority', '
 Insomnie' and 'United Future Airlines' are still staples in many a top
  DJ's crate !http://www.youtube.com/watch?v=wx0H1VsTbJwAfter 2002 Tosh
 io left U.F.O to pursue his own solo and remix projects and to DJ at t
 he world's top clubs and festivals. His remixes include UFO, of course
 , plus James Brown to Earth Wind & Fire, Incognito, Astor Piazzola and
  Gotan Project, while also creating a compilation series and consultin
 g for major fashion brands. Toshio is one of Japan's top music ambassa
 dors to this day ! \n\nFor more information visit https://trueskool.co
 m/events/kcrw-com-presents-thelift-sf-4-year-anniversary-w-gilles-pete
 rson
DTSTART;TZID=America/Los_Angeles:20140221T220000
DTEND;TZID=America/Los_Angeles:20140222T030000
CATEGORIES:"bay area", "san francisco"
LOCATION:Mighty, San Francisco, CA
WEBSITE:https://www.eventbrite.com/e/kcrwcom-presents-thelift-sf-4-yea
 r-anniversary-w-gilles-peterson-tickets-10421136901
URL:https://www.eventbrite.com/e/kcrwcom-presents-thelift-sf-4-year-an
 niversary-w-gilles-peterson-tickets-10421136901
CONTACT:
ORGANIZER:theLIFT
ATTACH;FMTTYPE="image/jpeg":http://storage.ning.com/topology/rest/1.0/
 file/get/2247965628?profile=original
ATTENDEE;ROLE=REQ-PARTICIPANT;PARTSTAT=ACCEPTED;RSVP=TRUE;CN="Jonathan
  Rudnick":https://trueskool.com/profile/JonathanRudnick
END:VEVENT
END:VCALENDAR
