BEGIN:VCALENDAR
PRODID:NingEventWidget-v1
VERSION:2.0
METHOD:PUBLISH
BEGIN:VTIMEZONE
TZID:America/Los_Angeles
X-LIC-LOCATION:America/Los_Angeles
BEGIN:DAYLIGHT
TZOFFSETFROM:-0800
TZOFFSETTO:-0700
TZNAME:PDT
DTSTART:19700308T020000
RRULE:FREQ=YEARLY;BYMONTH=3;BYDAY=2SU
END:DAYLIGHT
BEGIN:STANDARD
TZOFFSETFROM:-0700
TZOFFSETTO:-0800
TZNAME:PST
DTSTART:19701101T020000
RRULE:FREQ=YEARLY;BYMONTH=11;BYDAY=1SU
END:STANDARD
END:VTIMEZONE
BEGIN:VEVENT
UID:1464587:Event:310218
DTSTAMP:20260420T232245Z
SUMMARY:KCRW.COM presents theLIFT (SF) 4 YEAR ANNIVERSARY w/ GILLES PE
 TERSON & TOSHIO MATSUURA (United Future Organization)
DESCRIPTION:\n FRIDAY FEB 21 KCRW.COM presents theLIFT (SF) 4 YEAR ANN
 IVERSARY\nFeaturing: GILLES PETERSON (BROWNSWOOD / BBC RADIO 6 - UK)\n
  TOSHIO MATSUURA (United Future Organization)\nwith co-creators / res
 ident deejays: JEREMY SOLE (KCRW / MUSAICS - LA) WISEACRE (the303 - NY
 C) and special guests\n+ our fearless ringleader: JONATHAN RUDNICK (GI
 ANT STEP co-founder / FLAVORPILL / NOISE POP)\n@ MIGHTY, 119 Utah Stre
 et, SF 94103 $20. advance tix: http://fouryearsadreamsf.eventbrite.com
 / $25. at the door 10pm-3am / 21+ w/ ID\n***THERE WILL BE NO GUESTLIST
  FOR THIS EVENT, THANK YOU FOR UNDERSTANDING***\nsince it's humble beg
 innings in january 2010, theLIFT has \"grown up\" and matured into a p
 owerhouse LA event. created and hosted by JEREMY SOLE and ERIC TUCKER 
 (DJ WISEACRE), the two have since enlisted the production talents of J
 ONATHAN RUDNICK to strengthen their unbridled love and energy of a wel
 l-executed party, dedicated to the dance and music community of los an
 geles and beyond. each month theLIFT seeks to discover unique location
 s to house their monthly invocation that has seen the talents of GILLE
 S PETERSON, BONOBO, PSYCHEMAGIK, MOODYMANN, BLACK COFFEE, DANNY KRIVIT
 , BENJI B, PETER KRUDER, JUAN MACLEAN, NICKODEMUS, KARIZMA, DJ SPINNA,
  KING BRITT, MARK DE CLIVE-LOWE, SIMBAD, ELECTRIC WIRE HUSTLE and LEFT
 O to name a few. theLIFT is committed not to musical genres, but does 
 delight in fine music radiating from many different points of this pla
 net.\nit is with much pleasure we return to the bay area with the worl
 d's most celebrated music lover. we can think no one finer to realize 
 FOUR YEARS of this madness we call theLIFT.... please welcome the retu
 rn of GILLES PETERSON!!!\n\nFor more information visit https://truesko
 ol.com/events/kcrw-com-presents-thelift-sf-4-year-anniversary-w-gilles
 -peters-2
DTSTART;TZID=America/Los_Angeles:20140221T210000
DTEND;TZID=America/Los_Angeles:20140222T030000
CATEGORIES:"bay area", "san francisco"
LOCATION:Mighty, San Francisco
WEBSITE:http://fouryearsadreamsf.eventbrite.com/
URL:http://fouryearsadreamsf.eventbrite.com/
CONTACT:
ORGANIZER:KCRW.COM
ATTACH;FMTTYPE="image/jpeg":http://storage.ning.com/topology/rest/1.0/
 file/get/2059273107?profile=original
ATTENDEE;ROLE=REQ-PARTICIPANT;PARTSTAT=ACCEPTED;RSVP=TRUE;CN="Kimon Fl
 anagan":https://trueskool.com/profile/KimonFlanagan
ATTENDEE;ROLE=REQ-PARTICIPANT;PARTSTAT=ACCEPTED;RSVP=TRUE;CN="Salvator
 e Orlando":https://trueskool.com/profile/SalvatoreOrlando
ATTENDEE;ROLE=REQ-PARTICIPANT;PARTSTAT=ACCEPTED;RSVP=TRUE;CN="Staff Pi
 ck":https://trueskool.com/profile/Ren
ATTENDEE;ROLE=REQ-PARTICIPANT;PARTSTAT=ACCEPTED;RSVP=TRUE;CN="Richard 
 J. Tover":https://trueskool.com/profile/RichardJTover
ATTENDEE;ROLE=REQ-PARTICIPANT;PARTSTAT=ACCEPTED;RSVP=TRUE;CN=Frost:htt
 ps://trueskool.com/profile/Frost
ATTENDEE;ROLE=REQ-PARTICIPANT;PARTSTAT=ACCEPTED;RSVP=TRUE;CN=jMaX:http
 s://trueskool.com/profile/jMaX
END:VEVENT
END:VCALENDAR
