BEGIN:VCALENDAR
PRODID:NingEventWidget-v1
VERSION:2.0
METHOD:PUBLISH
BEGIN:VTIMEZONE
TZID:America/Los_Angeles
X-LIC-LOCATION:America/Los_Angeles
BEGIN:DAYLIGHT
TZOFFSETFROM:-0800
TZOFFSETTO:-0700
TZNAME:PDT
DTSTART:19700308T020000
RRULE:FREQ=YEARLY;BYMONTH=3;BYDAY=2SU
END:DAYLIGHT
BEGIN:STANDARD
TZOFFSETFROM:-0700
TZOFFSETTO:-0800
TZNAME:PST
DTSTART:19701101T020000
RRULE:FREQ=YEARLY;BYMONTH=11;BYDAY=1SU
END:STANDARD
END:VTIMEZONE
BEGIN:VEVENT
UID:1464587:Event:35259
DTSTAMP:20260424T000134Z
SUMMARY:Kaz-Well \"Fish Outta Water\" Record Release Party
DESCRIPTION:One of the the Bay's most promising up-and-coming hip-hopp
 ers, Kaz-Well , has the record release party for his new joint Fish Ou
 tta Water tonight at club Horizon. The title is both a reference to Ka
 z-Well's ethnicity--he's Japanese-American--and his often-experimental
 , alternative approach to rap music. Special guests include Michelle M
 artinez, Keelay & Zaire, Hopie Spitshard, and Da Evangillest, plus DJs
  Deedot, Scotty Doo, and A-Ron. There's free food from the Hard Knox C
 afé and admittance is free before 10:30 p.m.\n\nFor more information 
 visit https://trueskool.com/events/kazwell-fish-outta-water
DTSTART;TZID=America/Los_Angeles:20090703T180000
DTEND;TZID=America/Los_Angeles:20090703T190000
CATEGORIES:hip-hop
LOCATION:Horizon, San Francisco, CA
WEBSITE:http://www.horizonsf.com/
URL:http://www.horizonsf.com/
CONTACT:(415) 272-8396
ORGANIZER;CN="Tape Vault Records":https://trueskool.com/profile/TapeVa
 ultRecords
ATTACH;FMTTYPE="image/jpeg":http://storage.ning.com/topology/rest/1.0/
 file/get/2247858627?profile=original
ATTENDEE;ROLE=REQ-PARTICIPANT;PARTSTAT=ACCEPTED;RSVP=TRUE;CN="Tape Vau
 lt Records":https://trueskool.com/profile/TapeVaultRecords
END:VEVENT
END:VCALENDAR
