BEGIN:VCALENDAR
PRODID:NingEventWidget-v1
VERSION:2.0
METHOD:PUBLISH
BEGIN:VTIMEZONE
TZID:America/Los_Angeles
X-LIC-LOCATION:America/Los_Angeles
BEGIN:DAYLIGHT
TZOFFSETFROM:-0800
TZOFFSETTO:-0700
TZNAME:PDT
DTSTART:19700308T020000
RRULE:FREQ=YEARLY;BYMONTH=3;BYDAY=2SU
END:DAYLIGHT
BEGIN:STANDARD
TZOFFSETFROM:-0700
TZOFFSETTO:-0800
TZNAME:PST
DTSTART:19701101T020000
RRULE:FREQ=YEARLY;BYMONTH=11;BYDAY=1SU
END:STANDARD
END:VTIMEZONE
BEGIN:VEVENT
UID:1464587:Event:680049
DTSTAMP:20260421T125852Z
SUMMARY:KATDELIC *Annual Black Friday Party* +Harold Day Experience
DESCRIPTION:\nBoom Boom Room Presents:Â Â Join Us for The 5thÂ AnnualÂ
  Â ~BLACK FRIDAY FUNK DANCEÂ PARTY~Â starring:Â * KATDELIC *plus:Â * H
 AROLD DAY & The Experience *Â and:* DJ Kevvy Kev *Â (of Hip Hop ROTC a
 nd Wu-Tang Decks)Â \n** KATDELIC **Â \"funk rock psych-electric-dance-
 wave-original live music non-stop intergalactic star party spectacular
 \"Â \nThe colorful phenomenonÂ known asÂ KatdelicÂ emerges from San Fr
 ancisco under the visionary leadership of Ronkat Spearman. ThisÂ Gramm
 y-winning, multi platinum songwriter, producer, singer and guitaristÂ 
 honed his sonic philosophy as a member of George Clinton's Parliament-
 Funkadelic. The music is anÂ electrifying hybrid of funk, soul, EDM an
 d rock. Their futuristic groove engulfs the senses with seductive euph
 oria,Â giving audiences little choice but to dance all night long.\n\n
 For more information visit https://trueskool.com/events/katdelic-annua
 l-black-friday-party-harold-day-experience
DTSTART;TZID=America/Los_Angeles:20181123T210000
DTEND;TZID=America/Los_Angeles:20181124T030000
CATEGORIES:san, francisco
LOCATION:Boom Boom Room, San Francisco
WEBSITE:https://wl.seetickets.us/event/KATDELIC-Annual-Black-Friday-Pa
 rty-Harold-Day-Experience/374057?afflky=BoomBoomRoom
URL:https://wl.seetickets.us/event/KATDELIC-Annual-Black-Friday-Party-
 Harold-Day-Experience/374057?afflky=BoomBoomRoom
CONTACT:415-673-8000 / 415-673-8040
ORGANIZER;CN="Phillip Ranelli":https://trueskool.com/profile/PhillipRa
 nelli
ATTACH;FMTTYPE="image/jpeg":http://storage.ning.com/topology/rest/1.0/
 file/get/2248015503?profile=original
ATTENDEE;ROLE=REQ-PARTICIPANT;PARTSTAT=ACCEPTED;RSVP=TRUE;CN="Phillip 
 Ranelli":https://trueskool.com/profile/PhillipRanelli
END:VEVENT
END:VCALENDAR
