BEGIN:VCALENDAR
PRODID:NingEventWidget-v1
VERSION:2.0
METHOD:PUBLISH
BEGIN:VTIMEZONE
TZID:America/Los_Angeles
X-LIC-LOCATION:America/Los_Angeles
BEGIN:DAYLIGHT
TZOFFSETFROM:-0800
TZOFFSETTO:-0700
TZNAME:PDT
DTSTART:19700308T020000
RRULE:FREQ=YEARLY;BYMONTH=3;BYDAY=2SU
END:DAYLIGHT
BEGIN:STANDARD
TZOFFSETFROM:-0700
TZOFFSETTO:-0800
TZNAME:PST
DTSTART:19701101T020000
RRULE:FREQ=YEARLY;BYMONTH=11;BYDAY=1SU
END:STANDARD
END:VTIMEZONE
BEGIN:VEVENT
UID:1464587:Event:62068
DTSTAMP:20260420T230340Z
SUMMARY:Katchafire, plus Tomorrows Bad Seeds, Thrive, Jahlectric!, Cal
 ico...
DESCRIPTION:THURSDAY, JULY 29\nAngel Magik, Jaffe Events & Jimmy Varga
 s Present:\nKatchafire (New Zealand)\n\nPLUS:\nTomorrows Bad Seeds\nTh
 rive\nJahlectric!\nCALICO\n\nSpecial Guest DJ\nDJ JAH YZER (JAH WARRIO
 R SHELTER)\nDANEKAH (COOYAH)\n\nMezzanine, 444 Jessie Street @ Mint\nS
 an Francisco, California 94103\nDOORS OPEN 8PM. SHOW STARTS 9PM SHARP.
 \n$22 Advance. $25 at the door. 21 and Up\nOrder tickets via Eventbrit
 e:\nhttp://katchafire2-efbeven t.eventbrite.com/\n\nFor more informati
 on visit https://trueskool.com/events/katchafire-plus-tomorrows-bad
DTSTART;TZID=America/Los_Angeles:20100729T220000
DTEND;TZID=America/Los_Angeles:20100730T020000
CATEGORIES:reggae, dancehall
LOCATION:Mezzanine, San Francisco
WEBSITE:http://katchafire2-efbeven t.eventbrite.com/
URL:http://katchafire2-efbeven t.eventbrite.com/
CONTACT:
ORGANIZER:Angel Magik, Jaffe Events & Jimmy Vargas
ATTACH;FMTTYPE="image/jpeg":http://storage.ning.com/topology/rest/1.0/
 file/get/2247881994?profile=original
ATTENDEE;ROLE=REQ-PARTICIPANT;PARTSTAT=ACCEPTED;RSVP=TRUE;CN="Ren the 
 Vinyl Archaeologist":https://trueskool.com/profile/xh51jvilojur
END:VEVENT
END:VCALENDAR
