BEGIN:VCALENDAR
PRODID:NingEventWidget-v1
VERSION:2.0
METHOD:PUBLISH
BEGIN:VTIMEZONE
TZID:America/Los_Angeles
X-LIC-LOCATION:America/Los_Angeles
BEGIN:DAYLIGHT
TZOFFSETFROM:-0800
TZOFFSETTO:-0700
TZNAME:PDT
DTSTART:19700308T020000
RRULE:FREQ=YEARLY;BYMONTH=3;BYDAY=2SU
END:DAYLIGHT
BEGIN:STANDARD
TZOFFSETFROM:-0700
TZOFFSETTO:-0800
TZNAME:PST
DTSTART:19701101T020000
RRULE:FREQ=YEARLY;BYMONTH=11;BYDAY=1SU
END:STANDARD
END:VTIMEZONE
BEGIN:VEVENT
UID:1464587:Event:680853
DTSTAMP:20260421T083807Z
SUMMARY:KASH DOLL : ICE ME OUT (TOY DRIVE &amp; HOLIDAY PARTY) @ COMPL
 EX OAKLAND
DESCRIPTION:KASH DOLL : ICE ME OUT. KASH DOLL : ICE ME OUT. Complex Oa
 kland Presents KASH DOLL TOY DRIVE & HOLIDAY PARTY! Kash Doll Support 
 from:DJ TRUTH | DJ J12 and more! Friday December 14th / 10PM - 2AM / 2
 1+ Attendees are encouraged to bring a new, unwrapped toy for children
  spending the holidays at Childrens Hospital. Our bottle service price
 /packages start at $450(All prices include gratuity and tax)Includes 1
  Premium 750ML Bottle of your choice(Patron , Ciroc, Hennessy, Moet Ro
 se or Chandon), up to 4-5 guests in free all night, no waiting in line
 , express entry, a nice VIP area, mixers of your choice, and dedicated
  server all night! Large groups and multiple bottle discounts are also
  available. Contact us for more info.For VIP Service E-mail: COMPLEXOA
 KLAND@GMAIL.COMor Call/Text (510) 379-9954 Tickets: After purchasing a
  ticket through Eventbrite, you will receive an email with your ticket
 s attached as a PDF. Please PRINT out your tickets and bring them with
  you on the night of the event. By purchasing a ticket you agree to re
 ceive periodic email communication from Complex Oakland. Presale ticke
 ts must be redeemed by 1:30am.All events are 21+ | Please bring valid 
 identification | NO REFUNDS.\n\nFor more information visit https://tru
 eskool.com/events/kash-doll-ice-me-out-toy-drive-amp-holiday-party-com
 plex-oakland
DTSTART;TZID=America/Los_Angeles:20181214T220000
DTEND;TZID=America/Los_Angeles:20181215T020000
CATEGORIES:party, experience, music, nightlife, drink, dj, hip, hop, u
 rban, "21+", "r&amp", b
LOCATION:Complex Oakland
WEBSITE:https://www.scenesquid.com/events/kash-doll-ice-me-out-toy-dri
 ve-holiday-party-complex-oakland/5c0a49243a0c4bf903000005?referring_pu
 blisher=557fcea2808529985700000d
URL:https://www.scenesquid.com/events/kash-doll-ice-me-out-toy-drive-h
 oliday-party-complex-oakland/5c0a49243a0c4bf903000005?referring_publis
 her=557fcea2808529985700000d
CONTACT:4152405286
ORGANIZER:Complex Oakland
ATTACH;FMTTYPE="image/jpeg":
ATTENDEE;ROLE=REQ-PARTICIPANT;PARTSTAT=ACCEPTED;RSVP=TRUE;CN="SceneSqu
 id SF Bay":https://trueskool.com/profile/SceneSquidSFBay
END:VEVENT
END:VCALENDAR
