BEGIN:VCALENDAR
PRODID:NingEventWidget-v1
VERSION:2.0
METHOD:PUBLISH
BEGIN:VTIMEZONE
TZID:America/Los_Angeles
X-LIC-LOCATION:America/Los_Angeles
BEGIN:DAYLIGHT
TZOFFSETFROM:-0800
TZOFFSETTO:-0700
TZNAME:PDT
DTSTART:19700308T020000
RRULE:FREQ=YEARLY;BYMONTH=3;BYDAY=2SU
END:DAYLIGHT
BEGIN:STANDARD
TZOFFSETFROM:-0700
TZOFFSETTO:-0800
TZNAME:PST
DTSTART:19701101T020000
RRULE:FREQ=YEARLY;BYMONTH=11;BYDAY=1SU
END:STANDARD
END:VTIMEZONE
BEGIN:VEVENT
UID:1464587:Event:681051
DTSTAMP:20260421T030231Z
SUMMARY:Karl Denson’s Tiny Universe
DESCRIPTION:ENTER TO WIN A PAIR OF TICKETS. WINNER WILL BE DRAWN RANDO
 MLY AND ANNOUNCED 2 DAYS PRIOR TO EVENT.\r\n \r\n\r\nFriday, December 
 28, 2018\r\n Karl Denson’s Tiny Universe & Z-Trip \r\n with Dumpstap
 hunk\r\n @ The Fillmore, San Francisco\r\n Doors 8:00 p.m. // Show 9:0
 0 p.m. \r\n Tickets are $35.00 plus applicable charges.\r\n >> BUY TIC
 KETS\r\n\r\n\r\nSaturday, December 29, 2018\r\n Karl Denson’s Tiny U
 niverse & Z-Trip \r\n with Chali 2na & Cut Chemist Collaboration \r\n 
 @ The Fillmore, San Francisco\r\n Doors 8:00 p.m. // Show 9:00 p.m. \r
 \n Tickets are $35.00 plus applicable charges.\r\n >> BUY TICKETS\r\n\
 r\n\r\n\n\nFor more information visit https://trueskool.com/events/kar
 l-denson-s-tiny-universe-3
DTSTART;TZID=America/Los_Angeles:20181228T200000
DTEND;TZID=America/Los_Angeles:20181229T230000
CATEGORIES:"bay area", "san francisco"
LOCATION:The Fillmore, San Francisco
WEBSITE:https://www.ticketmaster.com/karl-densons-tiny-universe-ticket
 s/artist/833204?venueId=229424
URL:https://www.ticketmaster.com/karl-densons-tiny-universe-tickets/ar
 tist/833204?venueId=229424
CONTACT:
ORGANIZER:Live Nation
ATTACH;FMTTYPE="image/jpeg":https://storage.ning.com/topology/rest/1.0
 /file/get/341262121?profile=original
ATTENDEE;ROLE=REQ-PARTICIPANT;PARTSTAT=ACCEPTED;RSVP=TRUE;CN="Editor's
  Pick":https://trueskool.com/profile/RentheVinylArchaeologist
END:VEVENT
END:VCALENDAR
