BEGIN:VCALENDAR
PRODID:NingEventWidget-v1
VERSION:2.0
METHOD:PUBLISH
BEGIN:VTIMEZONE
TZID:America/Los_Angeles
X-LIC-LOCATION:America/Los_Angeles
BEGIN:DAYLIGHT
TZOFFSETFROM:-0800
TZOFFSETTO:-0700
TZNAME:PDT
DTSTART:19700308T020000
RRULE:FREQ=YEARLY;BYMONTH=3;BYDAY=2SU
END:DAYLIGHT
BEGIN:STANDARD
TZOFFSETFROM:-0700
TZOFFSETTO:-0800
TZNAME:PST
DTSTART:19701101T020000
RRULE:FREQ=YEARLY;BYMONTH=11;BYDAY=1SU
END:STANDARD
END:VTIMEZONE
BEGIN:VEVENT
UID:1464587:Event:259267
DTSTAMP:20260422T020744Z
SUMMARY:Kanye West (New York)
DESCRIPTION:\n NOV  \n23\nSAT\n\nMadison Square GardenNew York, NY
  08:00 PM\n\nKanye West - THE YEEZUS TOUR with Kendrick Lamar Details:
  Kanye West, Kendrick Lamar\nFind Tickets \n\n\n\n\nFor more informa
 tion visit https://trueskool.com/events/kanye-west-new-york
DTSTART;TZID=America/Los_Angeles:20131123T200000
DTEND;TZID=America/Los_Angeles:20131124T230000
CATEGORIES:nyc
LOCATION:Madison Square Garden, New York
WEBSITE:http://www.ticketmaster.com/Kanye-West-tickets/artist/885590#a
 rtist_table_focus
URL:http://www.ticketmaster.com/Kanye-West-tickets/artist/885590#artis
 t_table_focus
CONTACT:
ORGANIZER;CN="Editor's Pick":https://trueskool.com/profile/RentheVinyl
 Archaeologist
ATTACH;FMTTYPE="image/jpeg":http://storage.ning.com/topology/rest/1.0/
 file/get/2247950477?profile=original
ATTENDEE;ROLE=REQ-PARTICIPANT;PARTSTAT=ACCEPTED;RSVP=TRUE;CN="Editor's
  Pick":https://trueskool.com/profile/RentheVinylArchaeologist
END:VEVENT
END:VCALENDAR
